BEGIN:VCALENDAR
VERSION:2.0
PRODID:-//wp-events-plugin.com//7.2.3.1//EN
TZID:America/Detroit
X-WR-TIMEZONE:America/Detroit
BEGIN:VEVENT
UID:87964@annarborwithkids.com
DTSTART;TZID=America/Detroit:20250822T180000
DTEND;TZID=America/Detroit:20250822T210000
DTSTAMP:20250818T220205Z
URL:https://annarborwithkids.com/events/stem-social/
SUMMARY:STEM Social
DESCRIPTION:\nSaline Schools is hosting a STEM Social. Studentsof all ages 
 from Saline Area Schools and their families are invited to meet and learn 
 about Saline STEM teams.\n\n\n\nRepresentatives will be there from:\n\n\n\
 n\nRobotics\n\n\n\nScience Olympiad\n\n\n\nOther STEM Clubs\n\n\n\n\nPrese
 nted by Saline STEM Boosters\n\n\n\nThere will be movies\, snacks\, games\
 , raffles\, and a chance to hang out with friends.\n\n\n\n\n
CATEGORIES:Arbor Annie's Highlights,Elementary,Food,Free,High
 Schoolers,Indoor Activities,Middle Schoolers,Movies,Parents,STEM
LOCATION:Liberty School\, 7265 N. Ann Arbor St\, Saline\, Michigan\, 48176\
 , Saline\, United States
GEO:42.181201;-83.78649999999999
X-APPLE-STRUCTURED-LOCATION;VALUE=URI;X-ADDRESS=7265 N. Ann Arbor St\, Sali
 ne\, Michigan\, 48176\, Saline\, United States;X-APPLE-RADIUS=100;X-TITLE=
 Liberty School:geo:42.181201,-83.78649999999999
END:VEVENT
BEGIN:VTIMEZONE
TZID:America/Detroit
X-LIC-LOCATION:America/Detroit
BEGIN:DAYLIGHT
DTSTART:20250309T030000
TZOFFSETFROM:-0500
TZOFFSETTO:-0400
TZNAME:EDT
END:DAYLIGHT
END:VTIMEZONE
END:VCALENDAR