BEGIN:VCALENDAR
VERSION:2.0
PRODID:-//wp-events-plugin.com//7.2.3.1//EN
TZID:America/Detroit
X-WR-TIMEZONE:America/Detroit
BEGIN:VEVENT
UID:89990@annarborwithkids.com
DTSTART;TZID=America/Detroit:20251026T114500
DTEND;TZID=America/Detroit:20251026T124500
DTSTAMP:20251007T213902Z
URL:https://annarborwithkids.com/events/st-aidans-trunk-or-treat/
SUMMARY:St. Aidan's Trunk-or-Treat
DESCRIPTION:\nPut your Halloween costumes on and join St Aidan's Episcopal 
 Church for a fun afternoon of Trunk-or-Treating.\n\n\n\n\n\n\n\n\n
CATEGORIES:Arbor Annie's Highlights,Elementary,Free,Halloween,Middle
 Schoolers,Outdoor,Parents,Preschoolers,Toddler,Trick or Treat
LOCATION:St Aidan's Episcopal Church\, 1679 Broadway St\, Ann Arbor\, Michi
 gan\, 48105\, United States
GEO:42.296455;-83.726921
X-APPLE-STRUCTURED-LOCATION;VALUE=URI;X-ADDRESS=1679 Broadway St\, Ann Arbo
 r\, Michigan\, 48105\, United States;X-APPLE-RADIUS=100;X-TITLE=St Aidan's
  Episcopal Church:geo:42.296455,-83.726921
END:VEVENT
BEGIN:VTIMEZONE
TZID:America/Detroit
X-LIC-LOCATION:America/Detroit
BEGIN:DAYLIGHT
DTSTART:20250309T030000
TZOFFSETFROM:-0500
TZOFFSETTO:-0400
TZNAME:EDT
END:DAYLIGHT
END:VTIMEZONE
END:VCALENDAR