BEGIN:VCALENDAR
VERSION:2.0
PRODID:-//wp-events-plugin.com//7.2.3.1//EN
TZID:America/Detroit
X-WR-TIMEZONE:America/Detroit
BEGIN:VEVENT
UID:72404@annarborwithkids.com
DTSTART;TZID=America/Detroit:20230622T193000
DTEND;TZID=America/Detroit:20230622T193000
DTSTAMP:20230616T062929Z
URL:https://annarborwithkids.com/events/spritied-away-2/
SUMMARY:Spritied Away
DESCRIPTION:\nThe State Theater is showing Spirited Away. The movie will be
  presented in Japanese with English Subtitles\n
CATEGORIES:Advance Registration,Arbor Annie's Highlights,Cultural
 Celebration,Elementary,High Schoolers,Indoor Activities,Middle
 Schoolers,Movies,Parents
LOCATION:State Theater\, 233 South State St\, Ann Arbor\, Michigan\, 48104\
 , Downtown\, United States
GEO:42.2793962;-83.7406001
X-APPLE-STRUCTURED-LOCATION;VALUE=URI;X-ADDRESS=233 South State St\, Ann Ar
 bor\, Michigan\, 48104\, Downtown\, United States;X-APPLE-RADIUS=100;X-TIT
 LE=State Theater:geo:42.2793962,-83.7406001
END:VEVENT
BEGIN:VTIMEZONE
TZID:America/Detroit
X-LIC-LOCATION:America/Detroit
BEGIN:DAYLIGHT
DTSTART:20230312T030000
TZOFFSETFROM:-0500
TZOFFSETTO:-0400
TZNAME:EDT
END:DAYLIGHT
END:VTIMEZONE
END:VCALENDAR