BEGIN:VCALENDAR
VERSION:2.0
PRODID:-//wp-events-plugin.com//7.2.3.1//EN
TZID:America/Detroit
X-WR-TIMEZONE:America/Detroit
BEGIN:VEVENT
UID:92804@annarborwithkids.com
DTSTART;TZID=America/Detroit:20260421T103000
DTEND;TZID=America/Detroit:20260421T113000
DTSTAMP:20260305T164312Z
URL:https://annarborwithkids.com/events/spring-story-time-snakes-2/
SUMMARY:Spring Story Time: Frogs &amp\; Toads
DESCRIPTION:\nLearn all about frogs &amp\; toads and make your own to take 
 home. After the craft there will be time for free play. Dress for the weat
 her and bring sturdy shoes\, water and snacks! \n\n\n\nFor 0-5 year old ch
 ildren and a caregiver. Will be cancelled if raining or smokey outside.\n\
 n\n\nMeet at the Bader Park Playground\n\n\n\n\n\n\n\n\n
CATEGORIES:Advance Registration,Animals,Arbor Annie's
 Highlights,Crafts,Elementary,Free,Outdoor,Preschoolers,Registration
 Required,Spring Fun,Storytime,Toddler
LOCATION:Bader Park\, 2889 Provincial Drive\, Ann Arbor\, Michigan\, 48104\
 , United States
GEO:42.263437;-83.703583
X-APPLE-STRUCTURED-LOCATION;VALUE=URI;X-ADDRESS=2889 Provincial Drive\, Ann
  Arbor\, Michigan\, 48104\, United States;X-APPLE-RADIUS=100;X-TITLE=Bader
  Park:geo:42.263437,-83.703583
END:VEVENT
BEGIN:VTIMEZONE
TZID:America/Detroit
X-LIC-LOCATION:America/Detroit
BEGIN:DAYLIGHT
DTSTART:20260308T030000
TZOFFSETFROM:-0500
TZOFFSETTO:-0400
TZNAME:EDT
END:DAYLIGHT
END:VTIMEZONE
END:VCALENDAR