BEGIN:VCALENDAR
VERSION:2.0
PRODID:-//wp-events-plugin.com//7.2.3.1//EN
TZID:America/Detroit
X-WR-TIMEZONE:America/Detroit
BEGIN:VEVENT
UID:93071@annarborwithkids.com
DTSTART;TZID=America/Detroit:20260418T140000
DTEND;TZID=America/Detroit:20260418T160000
DTSTAMP:20260312T195531Z
URL:https://annarborwithkids.com/events/spring-stem/
SUMMARY:Spring STEM
DESCRIPTION:\nKids ages 8-12 can join Lake Erie Metropark in becoming scien
 tists for the afternoon as they participate in various Spring themed STEM 
 activities. \n\n\n\nEver wondered what makes flowers so unique? Or\, how a
  bird builds its nest? You will be exploring some exciting springtime happ
 enings\, and finding out what makes them work.\n\n\n\nWhat to Expect:This 
 program is entirely indoors\, and you will be seated for the duration of t
 he program.\n\n\n\n$ 5 per child\, Children must be accompanied by an adul
 t.\n\n\n\nEvent held in Marshlands Museum.\n\n\n\n\n
CATEGORIES:Advance Registration,Arbor Annie's Highlights,Elementary,Indoor
 Activities,Middle Schoolers,Nature,Registration Required,Spring Fun,STEM
LOCATION:Lake Erie Metropark\, 32481 West Jefferson Avenue\, Brownstown\, M
 ichigan\, 48173\, United States
GEO:42.070504;-83.210829
X-APPLE-STRUCTURED-LOCATION;VALUE=URI;X-ADDRESS=32481 West Jefferson Avenue
 \, Brownstown\, Michigan\, 48173\, United States;X-APPLE-RADIUS=100;X-TITL
 E=Lake Erie Metropark:geo:42.070504,-83.210829
END:VEVENT
BEGIN:VTIMEZONE
TZID:America/Detroit
X-LIC-LOCATION:America/Detroit
BEGIN:DAYLIGHT
DTSTART:20260308T030000
TZOFFSETFROM:-0500
TZOFFSETTO:-0400
TZNAME:EDT
END:DAYLIGHT
END:VTIMEZONE
END:VCALENDAR