BEGIN:VCALENDAR
VERSION:2.0
PRODID:-//wp-events-plugin.com//7.2.3.1//EN
TZID:America/Detroit
X-WR-TIMEZONE:America/Detroit
BEGIN:VEVENT
UID:93104@annarborwithkids.com
DTSTART;TZID=America/Detroit:20260404T093000
DTEND;TZID=America/Detroit:20260404T113000
DTSTAMP:20260319T212659Z
URL:https://annarborwithkids.com/events/spring-event-photos-crafts-scaveng
 er-hunt/
SUMMARY:Spring Event - Photos\, Crafts\, Scavenger Hunt
DESCRIPTION:\nCome dressed in your holiday best OR bring your rain slicker 
 and Wellies for this fun photo event to celebrate Spring/Easter!\n\n\n\n&n
 bsp\;Saturday\, March 28th | 9:30am-11:30am\n\n\n\nCome on this day if you
  want your photos back in time to share with your friends and family by Ea
 ster!\n\n\n\n&nbsp\;Saturday\, April 4th | 9:30am-11:30am\n\n\n\nCome on t
 his day if you’d like something fun to do to celebrate Spring or Easter!
 \n\n\n\nIncludes:\n\n\n\n Spring/Easter craft Micro-mini photo session (
 includes 1 high-res digital image of your choice) 2 hours of open play $
 25 per child\n\n\n\nSpace is limited!\n\n\n\nBook online - their photo eve
 nts sell out fast.\n\n\n\n2 sessions are offered at 9:30a on March 28 &amp
 \; April 4.\n\n\n\n\n
CATEGORIES:Advance Registration,Arbor Annie's
 Highlights,Crafts,Easter,Indoor
 Activities,Playgroup,Preschoolers,Registration Required,Toddler
LOCATION:Hide and Seek Play Boutique\, 1954 S Industrial Hwy\, Suite A\, An
 n Arbor\, Michigan\, 48104\, United States
GEO:42.258329;-83.738722
X-APPLE-STRUCTURED-LOCATION;VALUE=URI;X-ADDRESS=1954 S Industrial Hwy\, Sui
 te A\, Ann Arbor\, Michigan\, 48104\, United States;X-APPLE-RADIUS=100;X-T
 ITLE=Hide and Seek Play Boutique:geo:42.258329,-83.738722
END:VEVENT
BEGIN:VTIMEZONE
TZID:America/Detroit
X-LIC-LOCATION:America/Detroit
BEGIN:DAYLIGHT
DTSTART:20260308T030000
TZOFFSETFROM:-0500
TZOFFSETTO:-0400
TZNAME:EDT
END:DAYLIGHT
END:VTIMEZONE
END:VCALENDAR