BEGIN:VCALENDAR
VERSION:2.0
PRODID:-//wp-events-plugin.com//7.2.3.1//EN
TZID:America/Detroit
X-WR-TIMEZONE:America/Detroit
BEGIN:VEVENT
UID:92923@annarborwithkids.com
DTSTART;TZID=America/Detroit:20260403T140000
DTEND;TZID=America/Detroit:20260403T160000
DTSTAMP:20260309T220431Z
URL:https://annarborwithkids.com/events/spring-break-stem-zip-lines/
SUMMARY:Spring Break STEM - Zip Lines
DESCRIPTION:\nHow do zip lines work\, and what happens when you change the 
 angle or the weight? Join us for an exploration of stuffed animals and how
  they zip here in the library. All supplies provided\; kids\, bring an adu
 lt. This is a self-exploration drop-in program. \n\n\n\nFor ages 4+.\n\n\
 n\n\n
CATEGORIES:Arbor Annie's Highlights,Crafts,Elementary,Free,Indoor
 Activities,Middle Schoolers,Preschoolers,STEM
LOCATION:Ypsilanti District Library - Michigan Ave Branch\, 229 West Michig
 an Avenue\, Ypsilanti\, Michigan\, 48197\, Ypsilanti\, United States
GEO:42.240746;-83.61565
X-APPLE-STRUCTURED-LOCATION;VALUE=URI;X-ADDRESS=229 West Michigan Avenue\, 
 Ypsilanti\, Michigan\, 48197\, Ypsilanti\, United States;X-APPLE-RADIUS=10
 0;X-TITLE=Ypsilanti District Library - Michigan Ave Branch:geo:42.240746,-
 83.61565
END:VEVENT
BEGIN:VTIMEZONE
TZID:America/Detroit
X-LIC-LOCATION:America/Detroit
BEGIN:DAYLIGHT
DTSTART:20260308T030000
TZOFFSETFROM:-0500
TZOFFSETTO:-0400
TZNAME:EDT
END:DAYLIGHT
END:VTIMEZONE
END:VCALENDAR