BEGIN:VCALENDAR
VERSION:2.0
PRODID:-//wp-events-plugin.com//7.2.3.1//EN
TZID:America/Detroit
X-WR-TIMEZONE:America/Detroit
BEGIN:VEVENT
UID:92922@annarborwithkids.com
DTSTART;TZID=America/Detroit:20260331T140000
DTEND;TZID=America/Detroit:20260331T160000
DTSTAMP:20260309T220216Z
URL:https://annarborwithkids.com/events/spring-break-stem-catapults/
SUMMARY:Spring Break STEM - Catapults
DESCRIPTION:\nLaunching small balls and toys? Yes\, please! Join us to expl
 ore several types of catapults\, make your own\, and launch things. Kids\,
  bring an adult. This is a drop-in program. \n\n\n\nFor ages 4+.\n\n\n\n\
 n
CATEGORIES:Arbor Annie's Highlights,Crafts,Elementary,Free,Indoor
 Activities,STEM
LOCATION:Ypsilanti District Library - Michigan Ave Branch\, 229 West Michig
 an Avenue\, Ypsilanti\, Michigan\, 48197\, Ypsilanti\, United States
GEO:42.240746;-83.61565
X-APPLE-STRUCTURED-LOCATION;VALUE=URI;X-ADDRESS=229 West Michigan Avenue\, 
 Ypsilanti\, Michigan\, 48197\, Ypsilanti\, United States;X-APPLE-RADIUS=10
 0;X-TITLE=Ypsilanti District Library - Michigan Ave Branch:geo:42.240746,-
 83.61565
END:VEVENT
BEGIN:VTIMEZONE
TZID:America/Detroit
X-LIC-LOCATION:America/Detroit
BEGIN:DAYLIGHT
DTSTART:20260308T030000
TZOFFSETFROM:-0500
TZOFFSETTO:-0400
TZNAME:EDT
END:DAYLIGHT
END:VTIMEZONE
END:VCALENDAR