BEGIN:VCALENDAR
VERSION:2.0
PRODID:-//wp-events-plugin.com//7.2.3.1//EN
TZID:America/Detroit
X-WR-TIMEZONE:America/Detroit
BEGIN:VEVENT
UID:92908@annarborwithkids.com
DTSTART;TZID=America/Detroit:20260330T120000
DTEND;TZID=America/Detroit:20260330T130000
DTSTAMP:20260309T213108Z
URL:https://annarborwithkids.com/events/spring-break-stem-bird-origami/
SUMMARY:Spring Break STEM - Bird Origami
DESCRIPTION:\nDrop in over Spring Break for hands-on activities related to 
 this year's Family Read topic: Birds.\n\n\n\nFor ages 6+.\n\n\n\n\nMonday 
 (Mar 30): Bird Origami - Make a beautiful woven origami bird with Dave St
 renski.\n\n\n\nTuesday (Mar 31): Bird Window Decals - Create unique wind
 ow decals that help birds avoid collision with glass surfaces.\n\n\n\nWedn
 esday (Apr 1): Should I Stay or Should I Go Now? Through a series of STE
 AM stations\, learn to identify local bird species\, and explore and compa
 re the different survival strategies of seasonal birds vs. year-round resi
 dents.\n\n\n\nThursday (Apr 2): Ecosystem Comparison - With tools from H
 uron-Clinton Metropark\, measure the differences between the varied habit
 ats around the library. Then figure out what this means for the birds that
  call your library home. \n\n\n\nFriday (Apr 3): Tiny Bird Houses - Joi
 n members of the National Art Education Association from EMU for an art pr
 oject where you'll make tiny homes for magical birds.\n\n\n\n\n\n\n\n
CATEGORIES:Arbor Annie's Highlights,Crafts,Elementary,Free,Indoor
 Activities,STEM
LOCATION:Ypsilanti District Library - Whittaker Rd\, 5577 Whittaker Rd\, Yp
 silanti\, Michigan\, 48197\, Ypsilanti\, United States
GEO:42.208097;-83.61557
X-APPLE-STRUCTURED-LOCATION;VALUE=URI;X-ADDRESS=5577 Whittaker Rd\, Ypsilan
 ti\, Michigan\, 48197\, Ypsilanti\, United States;X-APPLE-RADIUS=100;X-TIT
 LE=Ypsilanti District Library - Whittaker Rd:geo:42.208097,-83.61557
END:VEVENT
BEGIN:VTIMEZONE
TZID:America/Detroit
X-LIC-LOCATION:America/Detroit
BEGIN:DAYLIGHT
DTSTART:20260308T030000
TZOFFSETFROM:-0500
TZOFFSETTO:-0400
TZNAME:EDT
END:DAYLIGHT
END:VTIMEZONE
END:VCALENDAR