BEGIN:VCALENDAR
VERSION:2.0
PRODID:-//wp-events-plugin.com//7.2.3.1//EN
TZID:America/Detroit
X-WR-TIMEZONE:America/Detroit
BEGIN:VEVENT
UID:92809@annarborwithkids.com
DTSTART;TZID=America/Detroit:20260330T100000
DTEND;TZID=America/Detroit:20260330T200000
DTSTAMP:20260305T194726Z
URL:https://annarborwithkids.com/events/spring-break-staycation-at-launch-
 ann-arbor-2026-03-30/
SUMMARY:Spring Break Staycation at Launch Ann Arbor
DESCRIPTION:\nStaying home for Spring Break? Have the ultimate Staycation a
 t Launch!\n\n\n\n$25 for unlimited jump ALL day😎\n\n\n\n\n\n\n\n\n\n\n\
 n\n\n\n
CATEGORIES:Advance Registration,Arbor Annie's
 Highlights,Elementary,Food,Indoor Activities,Middle Schoolers,Optional
 Registration,Preschoolers,Sport,Toddler
LOCATION:Launch Trampoline\, 800 W Eisenhower Parkway\, Ann Arbor\, Michiga
 n\, 48103\, United States
GEO:42.246181;-83.756183
X-APPLE-STRUCTURED-LOCATION;VALUE=URI;X-ADDRESS=800 W Eisenhower Parkway\, 
 Ann Arbor\, Michigan\, 48103\, United States;X-APPLE-RADIUS=100;X-TITLE=La
 unch Trampoline:geo:42.246181,-83.756183
END:VEVENT
BEGIN:VTIMEZONE
TZID:America/Detroit
X-LIC-LOCATION:America/Detroit
BEGIN:DAYLIGHT
DTSTART:20260308T030000
TZOFFSETFROM:-0500
TZOFFSETTO:-0400
TZNAME:EDT
END:DAYLIGHT
END:VTIMEZONE
END:VCALENDAR