BEGIN:VCALENDAR
VERSION:2.0
PRODID:-//wp-events-plugin.com//7.2.3.1//EN
TZID:America/Detroit
X-WR-TIMEZONE:America/Detroit
BEGIN:VEVENT
UID:67214@annarborwithkids.com
DTSTART;TZID=America/Detroit:20241026T183000
DTEND;TZID=America/Detroit:20241026T203000
DTSTAMP:20241001T204013Z
URL:https://annarborwithkids.com/events/spooky-tales-halloween-treats/
SUMMARY:Spooky Tales & Halloween Treats
DESCRIPTION:\nPut on your costume and head to Northfield Township Community
  Center for an evening of spooky fun!&nbsp\; \n\n\n\nSpooky stories around
  the campfire\, Halloween games\, crafts\, a few tricks\, and lots of  tr
 eats!  Drop your fishing line in the Fish Pond and try to hook a surprise
 ! Look into your future with “Ms. Fortune!”  Surprises lurk around ev
 ery corner!  \n\n\n\nThis is a FREE\, outdoor event for all ages!\n\n\n\
 n\n
CATEGORIES:Arbor Annie's Highlights,Crafts,Elementary,Fall
 Fun,Food,Free,Games,Halloween,High Schoolers,Middle
 Schoolers,Outdoor,Parents,Preschoolers,Storytime,Toddler
LOCATION:Northfield Township Community Center\, 9101 Main Street\, Whitmore
  Lake\, Michigan\, 48189\, Whitmore Lake\, United States
GEO:42.416934;-83.76072899999997
X-APPLE-STRUCTURED-LOCATION;VALUE=URI;X-ADDRESS=9101 Main Street\, Whitmore
  Lake\, Michigan\, 48189\, Whitmore Lake\, United States;X-APPLE-RADIUS=10
 0;X-TITLE=Northfield Township Community Center:geo:42.416934,-83.760728999
 99997
END:VEVENT
BEGIN:VTIMEZONE
TZID:America/Detroit
X-LIC-LOCATION:America/Detroit
BEGIN:DAYLIGHT
DTSTART:20240310T030000
TZOFFSETFROM:-0500
TZOFFSETTO:-0400
TZNAME:EDT
END:DAYLIGHT
END:VTIMEZONE
END:VCALENDAR