BEGIN:VCALENDAR
VERSION:2.0
PRODID:-//wp-events-plugin.com//7.2.3.1//EN
TZID:America/Detroit
X-WR-TIMEZONE:America/Detroit
BEGIN:VEVENT
UID:90328@annarborwithkids.com
DTSTART;TZID=America/Detroit:20251031T100000
DTEND;TZID=America/Detroit:20251031T160000
DTSTAMP:20251028T151729Z
URL:https://annarborwithkids.com/events/spooky-science-2/
SUMMARY:Spooky Science
DESCRIPTION:\nCelebrate Halloween with science! \n\n\n\nJoin AAHOM at the m
 useum for hands-on fun where curious kids and families can watch science d
 emonstrations that bubble\, glow\, and fizz\, then roll up your sleeves to
  explore interactive activities inspired by crawly creatures\, pumpkins\, 
 potions\, and more. \n\n\n\nFree with Museum Admission\n\n\n\n\n\n\n
CATEGORIES:Arbor Annie's Highlights,Elementary,Halloween,Indoor
 Activities,Middle Schoolers,Parents,Preschoolers,STEM,Toddler
LOCATION:Ann Arbor Hands-On Museum\, 220 E Ann St\, Ann Arbor\, MI\, 48104\
 , United States
GEO:42.281722;-83.746557
X-APPLE-STRUCTURED-LOCATION;VALUE=URI;X-ADDRESS=220 E Ann St\, Ann Arbor\, 
 MI\, 48104\, United States;X-APPLE-RADIUS=100;X-TITLE=Ann Arbor Hands-On M
 useum:geo:42.281722,-83.746557
END:VEVENT
BEGIN:VTIMEZONE
TZID:America/Detroit
X-LIC-LOCATION:America/Detroit
BEGIN:DAYLIGHT
DTSTART:20250309T030000
TZOFFSETFROM:-0500
TZOFFSETTO:-0400
TZNAME:EDT
END:DAYLIGHT
END:VTIMEZONE
END:VCALENDAR