BEGIN:VCALENDAR
VERSION:2.0
PRODID:-//wp-events-plugin.com//7.2.3.1//EN
TZID:America/Detroit
X-WR-TIMEZONE:America/Detroit
BEGIN:VEVENT
UID:93236@annarborwithkids.com
DTSTART;TZID=America/Detroit:20260501T183000
DTEND;TZID=America/Detroit:20260501T193000
DTSTAMP:20260323T194415Z
URL:https://annarborwithkids.com/events/spooky-lakes-with-geo-rutherford/
SUMMARY:Spooky Lakes with Geo Rutherford
DESCRIPTION:\nJoin author\, artist and educator Geo Rutherford for a deep d
 ive into the strange science and stories behind the "Spooky Lakes" of Mich
 igan! From unusual geological formations to surprising environmental pheno
 mena\, Geo blends research\, art\, and storytelling to reveal what makes t
 hese waters so captivating.\n\n\n\nGeo Rutherford’s&nbsp\;fascination wi
 th lakes\, initially sparked by her artistic practice\, gained widespread 
 attention when she began sharing on TikTok. Her engaging videos\, which de
 lve into the science behind phenomena like unusual ice formations and drif
 ting islands\, quickly captivated a global audience. However\, her account
  truly took off when she started her popular “Spooky Lakes” series in 
 October of 2020.&nbsp\;\n\n\n\nBeyond "Spooky Lakes\," Geo's artistic prac
 tice is centered on environmental issues related to the Great Lakes. She c
 reates prints\, artist’s books\, and large-scale mixed media works that 
 explore themes of invasiveness\, impermanence\, and the unseen aspects of 
 the Great Lakes ecosystem. Geo holds a BFA from Eastern Michigan Universit
 y and an MFA from the University of Wisconsin-Milwaukee. In addition to he
 r academic role\, she co-chairs the #whyyoumatter nonprofit in her spare t
 ime.\n\n\n\nFor teens &amp\; adults. Held in Fourth Floor Program Room.\n
CATEGORIES:Arbor Annie's Highlights,Author Event,Free,High
 Schoolers,Indoor Activities,Parents
LOCATION:Downtown Branch of AADL\, 343 South Fifth Avenue\, Ann Arbor\, Mic
 higan\, 48104\, Downtown\, United States
GEO:42.278198;-83.745971
X-APPLE-STRUCTURED-LOCATION;VALUE=URI;X-ADDRESS=343 South Fifth Avenue\, An
 n Arbor\, Michigan\, 48104\, Downtown\, United States;X-APPLE-RADIUS=100;X
 -TITLE=Downtown Branch of AADL:geo:42.278198,-83.745971
END:VEVENT
BEGIN:VTIMEZONE
TZID:America/Detroit
X-LIC-LOCATION:America/Detroit
BEGIN:DAYLIGHT
DTSTART:20260308T030000
TZOFFSETFROM:-0500
TZOFFSETTO:-0400
TZNAME:EDT
END:DAYLIGHT
END:VTIMEZONE
END:VCALENDAR