BEGIN:VCALENDAR
VERSION:2.0
PRODID:-//wp-events-plugin.com//7.2.3.1//EN
TZID:America/Detroit
X-WR-TIMEZONE:America/Detroit
BEGIN:VEVENT
UID:89999@annarborwithkids.com
DTSTART;TZID=America/Detroit:20251011T110000
DTEND;TZID=America/Detroit:20251011T120000
DTSTAMP:20251009T194946Z
URL:https://annarborwithkids.com/events/spooktacular-magic-show/
SUMMARY:Spooktacular Magic Show
DESCRIPTION:\nNorthfield Township Area Library is hosting Joel Tacey's Spoo
 ktacular Magic Show.\n\n\n\nFunny-not-scary magic\, dazzling juggling\, an
 d wacky stunts highlight this hilarious Halloween Hootenany. Important mes
 sages about Halloween safety are also shared during this all-ages show tha
 t will have kids and adults laughing out loud!\n\n\n\nCostumes are encoura
 ged.\n\n\n\nRegistration is required. \n
CATEGORIES:Advance Registration,Elementary,Free,Halloween,High
 Schoolers,Indoor Activities,Middle
 Schoolers,Parents,Preschoolers,Registration Required,Toddler
END:VEVENT
BEGIN:VTIMEZONE
TZID:America/Detroit
X-LIC-LOCATION:America/Detroit
BEGIN:DAYLIGHT
DTSTART:20250309T030000
TZOFFSETFROM:-0500
TZOFFSETTO:-0400
TZNAME:EDT
END:DAYLIGHT
END:VTIMEZONE
END:VCALENDAR