BEGIN:VCALENDAR
VERSION:2.0
PRODID:-//wp-events-plugin.com//7.2.3.1//EN
TZID:America/Detroit
X-WR-TIMEZONE:America/Detroit
BEGIN:VEVENT
UID:74894@annarborwithkids.com
DTSTART;TZID=America/Detroit:20251019T140000
DTEND;TZID=America/Detroit:20251019T170000
DTSTAMP:20251009T202510Z
URL:https://annarborwithkids.com/events/spook-a-thon-2/
SUMMARY:Spook-a-Thon
DESCRIPTION:\nOn October 19\, 2025\, Dance Marathon at UM will kick off the
  Fall season with an afternoon of Halloween fun at Spook-a-Thon from 2-5p!
 \n\n\n\nRevolution Chicnese Yoyo will perform and there will be an afterno
 on of spooky activities.\n\n\n\n\n\n\n\n\n\nDance Marathon at the Universi
 ty of Michigan\, is a student-run\, 501(c)(3) non-profit organization that
  raises funds and awareness for pediatric therapies for children with disa
 bilities and illnesses at the University of Michigan Health C.S. Mott Chil
 dren’s Hospital.\n\n\n\n\n\n\n\n\n
ATTACH;FMTTYPE=image/jpeg:https://annarborwithkids.com/wp-content/uploads/
 Copy-of-IMG_9319.jpg
CATEGORIES:Arbor Annie's Highlights,Charitable Event,Community
 Gathering,Elementary,Fall Fun,Food,Free,Games,Halloween,High
 Schoolers,Middle Schoolers,Parents,Preschoolers,Toddler,Trick or Treat
LOCATION:Michigan Diag\, University of Michigan Diag\, Ann Arbor\, Michigan
 \, 48109\, University of Michigan\, United States
GEO:42.2769159;-83.73821480000004
X-APPLE-STRUCTURED-LOCATION;VALUE=URI;X-ADDRESS=University of Michigan Diag
 \, Ann Arbor\, Michigan\, 48109\, University of Michigan\, United States;X
 -APPLE-RADIUS=100;X-TITLE=Michigan Diag:geo:42.2769159,-83.73821480000004
END:VEVENT
BEGIN:VTIMEZONE
TZID:America/Detroit
X-LIC-LOCATION:America/Detroit
BEGIN:DAYLIGHT
DTSTART:20250309T030000
TZOFFSETFROM:-0500
TZOFFSETTO:-0400
TZNAME:EDT
END:DAYLIGHT
END:VTIMEZONE
END:VCALENDAR