BEGIN:VCALENDAR
VERSION:2.0
PRODID:-//wp-events-plugin.com//7.2.3.1//EN
TZID:America/Detroit
X-WR-TIMEZONE:America/Detroit
BEGIN:VEVENT
UID:45986@annarborwithkids.com
DTSTART;TZID=America/Detroit:20230611T150000
DTEND;TZID=America/Detroit:20230611T150000
DTSTAMP:20230602T035159Z
URL:https://annarborwithkids.com/events/spirited-away/
SUMMARY:Howl's Moving Castle
DESCRIPTION:\nThe Michigan Theater is showing Howl's Moving Castle to kick 
 off Ann Arbor Japan Week 2023.\n\n\n\nThe showing is Free.\n\n\n\nThe movi
 e will be presented dubbed in English.\n\n\n\n\n\nJapan Week Activities\n\
 n\n\n[events_list tag="japan week" scope="2023-06-01\,2023-06-30"][/events
 _list]\n
CATEGORIES:Advance Registration,Arbor Annie's Highlights,Cultural
 Celebration,Elementary,High Schoolers,Indoor Activities,Middle
 Schoolers,Movies,Parents
LOCATION:Michigan Theater\, 603 E. Liberty St\, Ann Arbor\, MI\, 48104\, Do
 wntown\, United States
GEO:42.279704;-83.742019
X-APPLE-STRUCTURED-LOCATION;VALUE=URI;X-ADDRESS=603 E. Liberty St\, Ann Arb
 or\, MI\, 48104\, Downtown\, United States;X-APPLE-RADIUS=100;X-TITLE=Mich
 igan Theater:geo:42.279704,-83.742019
END:VEVENT
BEGIN:VTIMEZONE
TZID:America/Detroit
X-LIC-LOCATION:America/Detroit
BEGIN:DAYLIGHT
DTSTART:20230312T030000
TZOFFSETFROM:-0500
TZOFFSETTO:-0400
TZNAME:EDT
END:DAYLIGHT
END:VTIMEZONE
END:VCALENDAR