BEGIN:VCALENDAR
VERSION:2.0
PRODID:-//wp-events-plugin.com//7.2.3.1//EN
TZID:America/Detroit
X-WR-TIMEZONE:America/Detroit
BEGIN:VEVENT
UID:92578@annarborwithkids.com
DTSTART;TZID=America/Detroit:20260315T150000
DTEND;TZID=America/Detroit:20260315T160000
DTSTAMP:20260219T164139Z
URL:https://annarborwithkids.com/events/spinning-dot-theatre-presents-some
 times-i-wish/
SUMMARY:Spinning Dot Theatre Presents Sometimes\, I Wish
DESCRIPTION:\nThis is a performance by Spinning Dot Theatre - a theatre com
 pany based in Ann Arbor which performs global plays for family audiences.\
 n\n\n\nA mixed generation cast of actors brings this poignant play to life
 . A reimagining of Samuel Beckett’s&nbsp\;Waiting for Godot\, the play t
 akes place on&nbsp\;Christmas Eve&nbsp\;where two young children\, Itzel a
 nd Dakota\, wait for a bed at the local homeless shelter—dreaming of a w
 arm place to sleep with their families. The two friends ponder the meaning
  of their lives\, encountering some interesting characters who influence t
 heir perspectives on the world.\n\n\n\nFor teens &amp\; adults. Held in Lo
 wer Level Program Room.\n\n\n\n\n
CATEGORIES:Arbor Annie's Highlights,Free,High Schoolers,Indoor
 Activities,Middle Schoolers,Parents,Theater
LOCATION:Downtown Branch of AADL\, 343 South Fifth Avenue\, Ann Arbor\, Mic
 higan\, 48104\, Downtown\, United States
GEO:42.278198;-83.745971
X-APPLE-STRUCTURED-LOCATION;VALUE=URI;X-ADDRESS=343 South Fifth Avenue\, An
 n Arbor\, Michigan\, 48104\, Downtown\, United States;X-APPLE-RADIUS=100;X
 -TITLE=Downtown Branch of AADL:geo:42.278198,-83.745971
END:VEVENT
BEGIN:VTIMEZONE
TZID:America/Detroit
X-LIC-LOCATION:America/Detroit
BEGIN:DAYLIGHT
DTSTART:20260308T030000
TZOFFSETFROM:-0500
TZOFFSETTO:-0400
TZNAME:EDT
END:DAYLIGHT
END:VTIMEZONE
END:VCALENDAR