BEGIN:VCALENDAR
VERSION:2.0
PRODID:-//wp-events-plugin.com//7.2.3.1//EN
TZID:America/Detroit
X-WR-TIMEZONE:America/Detroit
BEGIN:VEVENT
UID:86666@annarborwithkids.com
DTSTART;TZID=America/Detroit:20250619T100000
DTEND;TZID=America/Detroit:20250619T100000
DTSTAMP:20250607T165827Z
URL:https://annarborwithkids.com/events/spider-man-into-the-spider-verse-s
 ummer-movie-clubhouse/
SUMMARY:Spider-man Into the Spider-Verse - Summer Movie Clubhouse
DESCRIPTION:\nToday's Summer Movie Clubhouse show is Spider-man Into the Sp
 ider-Verse\n\n\n\nCinemark's Summer Movie Clubhouse returns for summer 202
 5 from June 2-August 7.\n\n\n\nTickets are just $1.75 each. You can also s
 ave $1 on kids’ snack packs and any size popcorn &amp\; drink combos.\n\
 n\n\nPlease verify showtimes. The Summer Movie Clubhouse lists Wednesday a
 t 9:30a for showtimes\, and says they can vary by theater. Times were what
  the Cinemark on Carpenter Rd was listing as of May 14. With Emagine we ha
 ve seen showtimes can shift the week of the movie.\n\n\n\n\n\n\n\n\n\n\n\n
 \n
CATEGORIES:Arbor Annie's Highlights,Elementary,Frugal,Indoor
 Activities,Middle Schoolers,Movies,Preschoolers,Toddler
LOCATION:Cinemark Movie Theater\, 4100 Carpenter Rd\, Ypsilanti\, Michigan\
 , 48197\, Pittsfield\, United States
GEO:42.227631;-83.681855
X-APPLE-STRUCTURED-LOCATION;VALUE=URI;X-ADDRESS=4100 Carpenter Rd\, Ypsilan
 ti\, Michigan\, 48197\, Pittsfield\, United States;X-APPLE-RADIUS=100;X-TI
 TLE=Cinemark Movie Theater:geo:42.227631,-83.681855
END:VEVENT
BEGIN:VTIMEZONE
TZID:America/Detroit
X-LIC-LOCATION:America/Detroit
BEGIN:DAYLIGHT
DTSTART:20250309T030000
TZOFFSETFROM:-0500
TZOFFSETTO:-0400
TZNAME:EDT
END:DAYLIGHT
END:VTIMEZONE
END:VCALENDAR