BEGIN:VCALENDAR
VERSION:2.0
PRODID:-//wp-events-plugin.com//7.2.3.1//EN
TZID:America/Detroit
X-WR-TIMEZONE:America/Detroit
BEGIN:VEVENT
UID:77213@annarborwithkids.com
DTSTART;TZID=America/Detroit:20240408T140000
DTEND;TZID=America/Detroit:20240408T160000
DTSTAMP:20240405T040132Z
URL:https://annarborwithkids.com/events/solar-eclipse-viewing-party/
SUMMARY:Solar Eclipse Viewing Party
DESCRIPTION:\nA near total solar eclipse is happening on April 8\, 2024! \n
 \n\n\nIn Dexter\, the eclipse will begin at 1:57pm with the maximum occurr
 ing at 3:13pm. These rare events only occur when the Earth\, Moon\, and Su
 n align just right. \n\n\n\nWeather permitting\, gather on the terrace of 
 the Library\, adjacent to Mill Creek Park North\, to view the progression 
 of the eclipse. \n\n\n\nPlease remember it is never safe to directly view 
 the Sun without special equipment. A limited supply of eclipse glasses wil
 l be available. A live stream of the eclipse will also be available in the
  lower level meeting room. Registration is not required.\n\n\n\nFor all a
 ges.\n\n\n\n[wpv-view name="posts-by-id-shortcode" ids="53206"]\n
CATEGORIES:Arbor Annie's Highlights,Elementary,Free,High Schoolers,Middle
 Schoolers,Outdoor,Parents,Preschoolers,STEM
LOCATION:Dexter District Library\, 3255 Alpine St\, Dexter\, Michigan\, 481
 30\, Dexter\, United States
GEO:42.340266;-83.88900000000001
X-APPLE-STRUCTURED-LOCATION;VALUE=URI;X-ADDRESS=3255 Alpine St\, Dexter\, M
 ichigan\, 48130\, Dexter\, United States;X-APPLE-RADIUS=100;X-TITLE=Dexter
  District Library:geo:42.340266,-83.88900000000001
END:VEVENT
BEGIN:VTIMEZONE
TZID:America/Detroit
X-LIC-LOCATION:America/Detroit
BEGIN:DAYLIGHT
DTSTART:20240310T030000
TZOFFSETFROM:-0500
TZOFFSETTO:-0400
TZNAME:EDT
END:DAYLIGHT
END:VTIMEZONE
END:VCALENDAR