BEGIN:VCALENDAR
VERSION:2.0
PRODID:-//wp-events-plugin.com//7.2.3.1//EN
TZID:America/Detroit
X-WR-TIMEZONE:America/Detroit
BEGIN:VEVENT
UID:77099@annarborwithkids.com
DTSTART;TZID=America/Detroit:20240327T143000
DTEND;TZID=America/Detroit:20240327T153000
DTSTAMP:20240314T051530Z
URL:https://annarborwithkids.com/events/solar-eclipse-program-2/
SUMMARY:Solar Eclipse Program
DESCRIPTION:\nDaytime turns dark as night and the stars come out. It even f
 eels a little cooler! What happened to the sun?&nbsp\; Get ready for the A
 pril 8th&nbsp\;solar eclipse while making a simple eclipse viewer\, using 
 a pair of sun viewing glasses (weather permitting\,)\, making a piece of e
 clipse art and other fun activities. \n\n\n\nRegistration is required for 
 this independent program as the presenter does enforce a limit to the clas
 s size.\n\n\n\nFor grades K-4. The program is also held at 1p.\n\n\n\n[wpv
 -view name="posts-by-id-shortcode" ids="53206"]\n\n\n
CATEGORIES:Arbor Annie's Highlights,Elementary,Free,Indoor Activities,STEM
LOCATION:Dexter District Library\, 3255 Alpine St\, Dexter\, Michigan\, 481
 30\, Dexter\, United States
GEO:42.340266;-83.88900000000001
X-APPLE-STRUCTURED-LOCATION;VALUE=URI;X-ADDRESS=3255 Alpine St\, Dexter\, M
 ichigan\, 48130\, Dexter\, United States;X-APPLE-RADIUS=100;X-TITLE=Dexter
  District Library:geo:42.340266,-83.88900000000001
END:VEVENT
BEGIN:VTIMEZONE
TZID:America/Detroit
X-LIC-LOCATION:America/Detroit
BEGIN:DAYLIGHT
DTSTART:20240310T030000
TZOFFSETFROM:-0500
TZOFFSETTO:-0400
TZNAME:EDT
END:DAYLIGHT
END:VTIMEZONE
END:VCALENDAR