BEGIN:VCALENDAR
VERSION:2.0
PRODID:-//wp-events-plugin.com//7.2.3.1//EN
TZID:America/Detroit
X-WR-TIMEZONE:America/Detroit
BEGIN:VEVENT
UID:77102@annarborwithkids.com
DTSTART;TZID=America/Detroit:20240408T133000
DTEND;TZID=America/Detroit:20240408T163000
DTSTAMP:20240405T040145Z
URL:https://annarborwithkids.com/events/solar-eclipse-celebration/
SUMMARY:Solar Eclipse Celebration
DESCRIPTION:\nJoin the Leslie Science &amp\; Nature Center in celebrating t
 he total solar eclipse! Explore the night sky in our StarLab\, dive into a
 ll things space at our hands-on activity tables\, and meet nocturnal wildl
 ife up close. Pick up a pair of eclipse viewing glasses (included with you
 r ticket) to safely watch the eclipse.\n\n\n\n$5/person\n\n\n\n[wpv-view n
 ame="posts-by-id-shortcode" ids="53206"]\n\n\n\n[wpv-view name="posts-by-i
 d-shortcode" ids="156308"]\n
CATEGORIES:Arbor Annie's Highlights,Elementary,High Schoolers,Middle
 Schoolers,Outdoor,Parents,Preschoolers,STEM
LOCATION:Leslie Science & Nature Center\, 1831 Traver Rd\, Ann Arbor\, MI\,
  48105\, North Ann Arbor\, United States
GEO:42.30078700000001;-83.73028399999998
X-APPLE-STRUCTURED-LOCATION;VALUE=URI;X-ADDRESS=1831 Traver Rd\, Ann Arbor\
 , MI\, 48105\, North Ann Arbor\, United States;X-APPLE-RADIUS=100;X-TITLE=
 Leslie Science & Nature Center:geo:42.30078700000001,-83.73028399999998
END:VEVENT
BEGIN:VTIMEZONE
TZID:America/Detroit
X-LIC-LOCATION:America/Detroit
BEGIN:DAYLIGHT
DTSTART:20240310T030000
TZOFFSETFROM:-0500
TZOFFSETTO:-0400
TZNAME:EDT
END:DAYLIGHT
END:VTIMEZONE
END:VCALENDAR