BEGIN:VCALENDAR
VERSION:2.0
PRODID:-//wp-events-plugin.com//7.2.3.1//EN
TZID:America/Detroit
X-WR-TIMEZONE:America/Detroit
BEGIN:VEVENT
UID:77101@annarborwithkids.com
DTSTART;TZID=America/Detroit:20240407T110000
DTEND;TZID=America/Detroit:20240407T150000
DTSTAMP:20240405T040224Z
URL:https://annarborwithkids.com/events/solar-eclipse-activities/
SUMMARY:Solar Eclipse Activities
DESCRIPTION:\nVisit the Ann Arbor Hands-On Museum and celebrate the solar e
 clipse! Learn all about astronomy at their hands-on activity tables\, and 
 get ready for the the first total solar eclipse since 2017! \n\n\n\nAll ac
 tivities are included with Museum admission.\n\n\n\n[wpv-view name="activi
 ty-by-shortcode-search" search="hands-on museum"]\n\n\n\n[wpv-view name="p
 osts-by-id-shortcode" ids="53206"]\n
CATEGORIES:Arbor Annie's Highlights,Elementary,Free,High Schoolers,Indoor
 Activities,Middle Schoolers,Parents,Preschoolers,STEM
LOCATION:Ann Arbor Hands-On Museum\, 220 E Ann St\, Ann Arbor\, MI\, 48104\
 , United States
GEO:42.281722;-83.746557
X-APPLE-STRUCTURED-LOCATION;VALUE=URI;X-ADDRESS=220 E Ann St\, Ann Arbor\, 
 MI\, 48104\, United States;X-APPLE-RADIUS=100;X-TITLE=Ann Arbor Hands-On M
 useum:geo:42.281722,-83.746557
END:VEVENT
BEGIN:VTIMEZONE
TZID:America/Detroit
X-LIC-LOCATION:America/Detroit
BEGIN:DAYLIGHT
DTSTART:20240310T030000
TZOFFSETFROM:-0500
TZOFFSETTO:-0400
TZNAME:EDT
END:DAYLIGHT
END:VTIMEZONE
END:VCALENDAR