BEGIN:VCALENDAR
VERSION:2.0
PRODID:-//wp-events-plugin.com//7.2.3.1//EN
TZID:America/Detroit
X-WR-TIMEZONE:America/Detroit
BEGIN:VEVENT
UID:66056@annarborwithkids.com
DTSTART;TZID=America/Detroit:20260330T150000
DTEND;TZID=America/Detroit:20260330T160000
DTSTAMP:20260309T191518Z
URL:https://annarborwithkids.com/events/sock-puppets/
SUMMARY:Sock Puppets
DESCRIPTION:\nHead to AADL to make your own sock puppets\n\n\n\nThis event 
 is geared towards kids in grades K-5.\n\n\n\n\n
CATEGORIES:Arbor Annie's Highlights,Crafts,Elementary,Free,Indoor
 Activities,Pop Culture
LOCATION:Traverwood Branch of AADL\, 3333 Traverwood Dr\, Ann Arbor\, Michi
 gan\, 48105\, North Ann Arbor\, United States
GEO:42.307952;-83.71480500000001
X-APPLE-STRUCTURED-LOCATION;VALUE=URI;X-ADDRESS=3333 Traverwood Dr\, Ann Ar
 bor\, Michigan\, 48105\, North Ann Arbor\, United States;X-APPLE-RADIUS=10
 0;X-TITLE=Traverwood Branch of AADL:geo:42.307952,-83.71480500000001
END:VEVENT
BEGIN:VTIMEZONE
TZID:America/Detroit
X-LIC-LOCATION:America/Detroit
BEGIN:DAYLIGHT
DTSTART:20260308T030000
TZOFFSETFROM:-0500
TZOFFSETTO:-0400
TZNAME:EDT
END:DAYLIGHT
END:VTIMEZONE
END:VCALENDAR