BEGIN:VCALENDAR
VERSION:2.0
PRODID:-//wp-events-plugin.com//7.2.3.1//EN
TZID:America/Detroit
X-WR-TIMEZONE:America/Detroit
BEGIN:VEVENT
UID:46025@annarborwithkids.com
DTSTART;TZID=America/Detroit:20240119T190000
DTEND;TZID=America/Detroit:20240119T190000
DTSTAMP:20240112T053556Z
URL:https://annarborwithkids.com/events/snow-white-dancing-dwarfs-2019-01-
 26/
SUMMARY:Finding Nemo Jr
DESCRIPTION:\nDexter Community Players presents their annual winter youth p
 roduction: Finding Nemo Jr\n\n\n\nFinding Nemo Jr is a 60 minute adaptatio
 n of the 2003 Pixar Movie with new music from Kristen Anderson-Lopez &amp\
 ; Robert Lopez. \n\n\n\nGet your tickets now\n\n\n\n\n\nShowtimes\n\n\n\n[
 events_list tag="DCP" scope="2024-01-10\,2024-02-15"][/events_list]\n
CATEGORIES:Advance Registration,Arbor Annie's Highlights,Elementary,High
 Schoolers,Indoor Activities,Middle Schoolers,Parents,Preschoolers,Theater
LOCATION:Jane Tasch Theater\, 2100 E M-36\, Pinckney\, Michigan\, 48169\, P
 inckney\, United States
GEO:42.4600518;-83.90510310000002
X-APPLE-STRUCTURED-LOCATION;VALUE=URI;X-ADDRESS=2100 E M-36\, Pinckney\, Mi
 chigan\, 48169\, Pinckney\, United States;X-APPLE-RADIUS=100;X-TITLE=Jane 
 Tasch Theater:geo:42.4600518,-83.90510310000002
END:VEVENT
BEGIN:VTIMEZONE
TZID:America/Detroit
X-LIC-LOCATION:America/Detroit
BEGIN:STANDARD
DTSTART:20231105T010000
TZOFFSETFROM:-0400
TZOFFSETTO:-0500
TZNAME:EST
END:STANDARD
END:VTIMEZONE
END:VCALENDAR