BEGIN:VCALENDAR
VERSION:2.0
PRODID:-//wp-events-plugin.com//7.2.3.1//EN
TZID:America/Detroit
X-WR-TIMEZONE:America/Detroit
BEGIN:VEVENT
UID:84604@annarborwithkids.com
DTSTART;TZID=America/Detroit:20250213T110000
DTEND;TZID=America/Detroit:20250213T143000
DTSTAMP:20250213T154930Z
URL:https://annarborwithkids.com/events/snow-day-special/
SUMMARY:Snow Day Special
DESCRIPTION:\nThe new Hide &amp\; Seek Play Boutique is offering a Snow Day
  Special for grades K-4. There will be crafts\, games and dance party in t
 he private classroom.\n\n\n\n\nhttps://www.instagram.com/p/DFdOCdqvx-6/\n\
 n\n\n\n90 minute sessions are offered at 11a and 1p.\n\n\n\nSpace is limit
 ed so register now.\n\n\n\n\n
CATEGORIES:Advance Registration,Arbor Annie's
 Highlights,Crafts,Elementary,Indoor Activities,Playgroup,Registration
 Required
LOCATION:Hide and Seek Play Boutique\, 1954 S Industrial Hwy\, Suite A\, An
 n Arbor\, Michigan\, 48104\, United States
GEO:42.258329;-83.738722
X-APPLE-STRUCTURED-LOCATION;VALUE=URI;X-ADDRESS=1954 S Industrial Hwy\, Sui
 te A\, Ann Arbor\, Michigan\, 48104\, United States;X-APPLE-RADIUS=100;X-T
 ITLE=Hide and Seek Play Boutique:geo:42.258329,-83.738722
END:VEVENT
BEGIN:VTIMEZONE
TZID:America/Detroit
X-LIC-LOCATION:America/Detroit
BEGIN:STANDARD
DTSTART:20241103T010000
TZOFFSETFROM:-0400
TZOFFSETTO:-0500
TZNAME:EST
END:STANDARD
END:VTIMEZONE
END:VCALENDAR