BEGIN:VCALENDAR
VERSION:2.0
PRODID:-//wp-events-plugin.com//7.2.3.1//EN
TZID:America/Detroit
X-WR-TIMEZONE:America/Detroit
BEGIN:VEVENT
UID:84598@annarborwithkids.com
DTSTART;TZID=America/Detroit:20250213T100000
DTEND;TZID=America/Detroit:20250213T120000
DTSTAMP:20250212T204348Z
URL:https://annarborwithkids.com/events/snow-day-event/
SUMMARY:Snow Day Event
DESCRIPTION:\nThis event will only be held if February 13 is a snow day\n\n
 \n\nJoin Pittsfield Parks for School’s Out Snow Days! \n\n\n\n\n\nDuring
  the month of February\, they will host a free pop-up event for children a
 nd families on snow days! \n\n\n\nFrom 10am to noon\, there will be snow b
 owling\, Giant Connect 4\, foam axe-throwing\, snowman building\, and hot 
 cocoa at Montibeller Park. Please bring your own sled.\n\n\n\n\nhttps://ww
 w.facebook.com/pittsfieldparksandrec/posts/pfbid02bmXd3mzfD1bVkafgozohDMB2
 cpdXNnU7BM24CBS7PQrVftUp73qnQtN8QbnvS32Kl?cft[0]=AZWN530j12xXfwZY6ehTZ6-XO
 ZiqTiWo8T99HbIVkUvGjisJRMEzPwuHMU_l4Usu4gtWKkrOBPqa_v2wxERGNr0ZXxxbzrjuhqE
 DqwflDz8Q0jCQ05RYjUgDQAwjYYGqR2Cq9tqI5-6_m_pOKVSajPjLCFjJpIPdE5G6fotPmB6U6
 21shazYk586Z3dHqjYGM_N_K4WEWTf4uAsBqcRvwTl6EDlXEgzf5d0oBZkzKdgXCg&amp\;tn=
 %2CO%2CP-R\n\n\n\n
CATEGORIES:Arbor Annie's Highlights,Elementary,Food,Free,Middle
 Schoolers,Outdoor,Parents,Preschoolers
LOCATION:Montibeller Park\, 4305 W. Ellsworth Rd\, Ypsilanti\, MI\, 48197\,
  Pittsfield\, United States
GEO:42.2305485;-83.67284999999998
X-APPLE-STRUCTURED-LOCATION;VALUE=URI;X-ADDRESS=4305 W. Ellsworth Rd\, Ypsi
 lanti\, MI\, 48197\, Pittsfield\, United States;X-APPLE-RADIUS=100;X-TITLE
 =Montibeller Park:geo:42.2305485,-83.67284999999998
END:VEVENT
BEGIN:VTIMEZONE
TZID:America/Detroit
X-LIC-LOCATION:America/Detroit
BEGIN:STANDARD
DTSTART:20241103T010000
TZOFFSETFROM:-0400
TZOFFSETTO:-0500
TZNAME:EST
END:STANDARD
END:VTIMEZONE
END:VCALENDAR