BEGIN:VCALENDAR
VERSION:2.0
PRODID:-//wp-events-plugin.com//7.2.3.1//EN
TZID:America/Detroit
X-WR-TIMEZONE:America/Detroit
BEGIN:VEVENT
UID:50292@annarborwithkids.com
DTSTART;TZID=America/Detroit:20190706T180000
DTEND;TZID=America/Detroit:20190706T180000
DTSTAMP:20200729T031501Z
URL:https://annarborwithkids.com/events/smores/
SUMMARY:S'mores
DESCRIPTION:The Hands-On Museum is offering special workshops all summer lo
 ng.\n\nHead to the museum for their special summer hours on Saturday Eveni
 ngs and make some s'mores.\n\nWhile you make the s'mores learn about energ
 y\, chemistry\, and why crispy marshmallows are the best (or not).\nUpcomi
 ng AAHOM Add-On Workshops\n[events_list tag="aahom addon" ]
ATTACH;FMTTYPE=image/jpeg:https://annarborwithkids.com/wp-content/uploads/
 2018/07/ann-arbor-hands-on-museum-aahom-exterior.jpg
CATEGORIES:Arbor Annie's Highlights,Display Image,Elementary,Food,High
 Schoolers,Indoor Activities,Middle
 Schoolers,Parents,Preschoolers,STEM,Toddler
LOCATION:Ann Arbor Hands-On Museum\, 220 E Ann St\, Ann Arbor\, MI\, 48104\
 , United States
GEO:42.281722;-83.746557
X-APPLE-STRUCTURED-LOCATION;VALUE=URI;X-ADDRESS=220 E Ann St\, Ann Arbor\, 
 MI\, 48104\, United States;X-APPLE-RADIUS=100;X-TITLE=Ann Arbor Hands-On M
 useum:geo:42.281722,-83.746557
END:VEVENT
BEGIN:VTIMEZONE
TZID:America/Detroit
X-LIC-LOCATION:America/Detroit
BEGIN:DAYLIGHT
DTSTART:20190310T030000
TZOFFSETFROM:-0500
TZOFFSETTO:-0400
TZNAME:EDT
END:DAYLIGHT
END:VTIMEZONE
END:VCALENDAR