BEGIN:VCALENDAR
VERSION:2.0
PRODID:-//wp-events-plugin.com//7.2.3.1//EN
TZID:America/Detroit
X-WR-TIMEZONE:America/Detroit
BEGIN:VEVENT
UID:67280@annarborwithkids.com
DTSTART;TZID=America/Detroit:20251028T170000
DTEND;TZID=America/Detroit:20251028T183000
DTSTAMP:20251021T213633Z
URL:https://annarborwithkids.com/events/skelementary/
SUMMARY:Skelementary
DESCRIPTION:\nHey Ann Arbor parents! 🎃 Kappa Delta Pi (future teacher fr
 aternity at UofM) is hosting a kids Halloween event. Costumes are encourag
 ed! \n\n\n\nCome check out Skelementary at the U-M School of Education on 
 Tuesday\, Oct. 28th from 5–6:30p! There will be games\, crafts\, face pa
 inting\, treats\, a mummy contest\, and free pizza.\n\n\n\nThe event is ge
 ared toward kids 8 and under. Children must be accompanied by a parent or 
 guardian\n\n\n\nThe easiest parking option is on E. University Ave\, but t
 here's also options in the Hill/Forest garages. Hope to see you there!\n\n
 \n\n\n\n\n\n\n
CATEGORIES:Arbor Annie's
 Highlights,Crafts,Elementary,Food,Free,Games,Halloween,Preschoolers,Toddle
 r
LOCATION:U of M School of Education\, 610 E. University \, Ann Arbor\, Mich
 igan\, 48109\, UofM Campus\, United States
GEO:42.2738721;-83.73640360000002
X-APPLE-STRUCTURED-LOCATION;VALUE=URI;X-ADDRESS=610 E. University \, Ann Ar
 bor\, Michigan\, 48109\, UofM Campus\, United States;X-APPLE-RADIUS=100;X-
 TITLE=U of M School of Education:geo:42.2738721,-83.73640360000002
END:VEVENT
BEGIN:VTIMEZONE
TZID:America/Detroit
X-LIC-LOCATION:America/Detroit
BEGIN:DAYLIGHT
DTSTART:20250309T030000
TZOFFSETFROM:-0500
TZOFFSETTO:-0400
TZNAME:EDT
END:DAYLIGHT
END:VTIMEZONE
END:VCALENDAR