BEGIN:VCALENDAR
VERSION:2.0
PRODID:-//wp-events-plugin.com//7.2.3.1//EN
TZID:America/Detroit
X-WR-TIMEZONE:America/Detroit
BEGIN:VEVENT
UID:77155@annarborwithkids.com
DTSTART;TZID=America/Detroit:20240402T180000
DTEND;TZID=America/Detroit:20240402T190000
DTSTAMP:20240328T150110Z
URL:https://annarborwithkids.com/events/simple-solar-eclipse-viewer/
SUMMARY:Simple Solar Eclipse Viewer
DESCRIPTION:\nDrop-in to make a simple and safe solar eclipse viewer to wat
 ch the eclipse without looking directly at the sun.&nbsp\;\n\n\n\nFor grad
 es K-Adult. Held in Multi-Purpose room.\n\n\n
CATEGORIES:Arbor Annie's Highlights,Crafts,Elementary,Free,High
 Schoolers,Indoor Activities,Middle Schoolers,Parents,STEM
LOCATION:Downtown Branch of AADL\, 343 South Fifth Avenue\, Ann Arbor\, Mic
 higan\, 48104\, Downtown\, United States
GEO:42.278198;-83.745971
X-APPLE-STRUCTURED-LOCATION;VALUE=URI;X-ADDRESS=343 South Fifth Avenue\, An
 n Arbor\, Michigan\, 48104\, Downtown\, United States;X-APPLE-RADIUS=100;X
 -TITLE=Downtown Branch of AADL:geo:42.278198,-83.745971
END:VEVENT
BEGIN:VTIMEZONE
TZID:America/Detroit
X-LIC-LOCATION:America/Detroit
BEGIN:DAYLIGHT
DTSTART:20240310T030000
TZOFFSETFROM:-0500
TZOFFSETTO:-0400
TZNAME:EDT
END:DAYLIGHT
END:VTIMEZONE
END:VCALENDAR