BEGIN:VCALENDAR
VERSION:2.0
PRODID:-//wp-events-plugin.com//7.2.3.1//EN
TZID:America/Detroit
X-WR-TIMEZONE:America/Detroit
BEGIN:VEVENT
UID:93069@annarborwithkids.com
DTSTART;TZID=America/Detroit:20260418T100000
DTEND;TZID=America/Detroit:20260418T120000
DTSTAMP:20260312T193551Z
URL:https://annarborwithkids.com/events/signs-of-spring-hike/
SUMMARY:Signs of Spring Hike
DESCRIPTION:\nDust off your walking shoes because spring is in the air! But
  how do we know? Explore the park and find all the clues that spring is he
 re. From flowers to insects\, tree buds and more. Join Lake Erie Metropark
  to search for some exciting spring happenings.\n\n\n\nThis program is ent
 irely outdoors. The time\, approximately 120 minutes\, will be spent on a 
 leisurely walk with frequent stops. We will conclude at the Lake Erie Mars
 hlands Museum. The planned path surface is dirt and gravel\, mostly flat a
 nd level.\n\n\n\nThis program is for all ages. Meet at Marshland Museum.\n
 \n\n\nPre-registration is required by 4 p.m. the day before the program.\n
CATEGORIES:Advance Registration,Arbor Annie's Highlights,Elementary,High
 Schoolers,Hikes/Walks,Middle
 Schoolers,Nature,Outdoor,Parents,Preschoolers,Registration Required,Spring
 Fun,Toddler
LOCATION:Lake Erie Metropark\, 32481 West Jefferson Avenue\, Brownstown\, M
 ichigan\, 48173\, United States
GEO:42.070504;-83.210829
X-APPLE-STRUCTURED-LOCATION;VALUE=URI;X-ADDRESS=32481 West Jefferson Avenue
 \, Brownstown\, Michigan\, 48173\, United States;X-APPLE-RADIUS=100;X-TITL
 E=Lake Erie Metropark:geo:42.070504,-83.210829
END:VEVENT
BEGIN:VTIMEZONE
TZID:America/Detroit
X-LIC-LOCATION:America/Detroit
BEGIN:DAYLIGHT
DTSTART:20260308T030000
TZOFFSETFROM:-0500
TZOFFSETTO:-0400
TZNAME:EDT
END:DAYLIGHT
END:VTIMEZONE
END:VCALENDAR