BEGIN:VCALENDAR
VERSION:2.0
PRODID:-//wp-events-plugin.com//7.2.3.1//EN
TZID:America/Detroit
X-WR-TIMEZONE:America/Detroit
BEGIN:VEVENT
UID:92596@annarborwithkids.com
DTSTART;TZID=America/Detroit:20260327T170000
DTEND;TZID=America/Detroit:20260327T190000
DTSTAMP:20260219T184859Z
URL:https://annarborwithkids.com/events/sign-lab/
SUMMARY:Sign Lab
DESCRIPTION:\nSome people write songs\, some people make paintings. Others 
 say what's on their mind with a sign. \n\n\n\nJoin AADL for sign lab where
  they'll have everything you need to create a sign meant to express yourse
 lf!\n\n\n\nFor grades K-Adult. Held in Secret Lab\n
CATEGORIES:Arbor Annie's Highlights,Crafts,Elementary,Free,High
 Schoolers,Indoor Activities,Middle Schoolers,Parents
LOCATION:Downtown Branch of AADL\, 343 South Fifth Avenue\, Ann Arbor\, Mic
 higan\, 48104\, Downtown\, United States
GEO:42.278198;-83.745971
X-APPLE-STRUCTURED-LOCATION;VALUE=URI;X-ADDRESS=343 South Fifth Avenue\, An
 n Arbor\, Michigan\, 48104\, Downtown\, United States;X-APPLE-RADIUS=100;X
 -TITLE=Downtown Branch of AADL:geo:42.278198,-83.745971
END:VEVENT
BEGIN:VTIMEZONE
TZID:America/Detroit
X-LIC-LOCATION:America/Detroit
BEGIN:DAYLIGHT
DTSTART:20260308T030000
TZOFFSETFROM:-0500
TZOFFSETTO:-0400
TZNAME:EDT
END:DAYLIGHT
END:VTIMEZONE
END:VCALENDAR