BEGIN:VCALENDAR
VERSION:2.0
PRODID:-//wp-events-plugin.com//7.2.3.1//EN
TZID:America/Detroit
X-WR-TIMEZONE:America/Detroit
BEGIN:VEVENT
UID:71381@annarborwithkids.com
DTSTART;TZID=America/Detroit:20250615T170000
DTEND;TZID=America/Detroit:20250615T220000
DTSTAMP:20250411T164408Z
URL:https://annarborwithkids.com/events/sidewalk-chalk-day-2/
SUMMARY:Sidewalk Chalk Day
DESCRIPTION:\nJoin A2SF on June 15 for an extravaganza of personal expressi
 on. Chalk at Top of the Park\, on your own sidewalk\, or wherever you choo
 se to make your canvas!\n\n\n\n\n\n\n\n\n\nAbout David Zinn:&nbsp\;David Z
 inn’s chalk work began in 2001 as an excuse to linger outdoors\, but has
  since achieved global notoriety through the sharing of photos on Facebook
 \, Huffington Post UK\, The Cheezburger Network\, Street Art Utopia\, and 
 Archie McPhee’s Endless Geyser of Awesome. Be inspired by his ability to
  incorporate 3-D illusions into familiar scenery and have fun searching fo
 r his most frequent characters\, Sluggo\, a bright green monster with stal
 k eyes and irreverent habits\, Philomena\, a phlegmatic flying pig\, and m
 any entertaining mice.\n\n\n
CATEGORIES:Arbor Annie's Highlights,Crafts,Elementary,Free,High
 Schoolers,Middle Schoolers,Outdoor,Parents,Preschoolers,Toddler
LOCATION:Top of the Park\, 915 E. Washington St\, Ann Arbor\, Michigan\, 48
 109\, University of Michigan\, United States
GEO:42.2807892;-83.73815560000003
X-APPLE-STRUCTURED-LOCATION;VALUE=URI;X-ADDRESS=915 E. Washington St\, Ann 
 Arbor\, Michigan\, 48109\, University of Michigan\, United States;X-APPLE-
 RADIUS=100;X-TITLE=Top of the Park:geo:42.2807892,-83.73815560000003
END:VEVENT
BEGIN:VTIMEZONE
TZID:America/Detroit
X-LIC-LOCATION:America/Detroit
BEGIN:DAYLIGHT
DTSTART:20250309T030000
TZOFFSETFROM:-0500
TZOFFSETTO:-0400
TZNAME:EDT
END:DAYLIGHT
END:VTIMEZONE
END:VCALENDAR