BEGIN:VCALENDAR
VERSION:2.0
PRODID:-//wp-events-plugin.com//7.2.3.1//EN
TZID:America/Detroit
X-WR-TIMEZONE:America/Detroit
BEGIN:VEVENT
UID:92798@annarborwithkids.com
DTSTART;TZID=America/Detroit:20260417T190000
DTEND;TZID=America/Detroit:20260417T190000
DTSTAMP:20260305T160400Z
URL:https://annarborwithkids.com/events/shrek-jr-by-tappan-players-2026-04
 -17/
SUMMARY:Shrek Jr. by Tappan Players
DESCRIPTION:\nJoin Tappan Players\, a partnership between Tappan Middle Sch
 ool's Theater Department and Tappan PTSO\, for a family-friendly performan
 ce of Shrek Jr. Running time for the show is approximately 1 hour. They ho
 pe to see you there!\n\n\n\nPurchase tickets here - there is&nbsp\;limited
  availability&nbsp\;at the door.\n\n\n\nPerformance Times\n\n\n\n[events_l
 ist tag="tappanplayers" scope="2026-04-01\,2026-04-30"]🎭 #_{l\, F j} at
  #_EVENTTIMES - #_EVENTLINK[/events_list]\n\n\n\n\n
CATEGORIES:Advance Registration,Arbor Annie's Highlights,Elementary,High
 Schoolers,Indoor Activities,Middle Schoolers,Optional
 Registration,Parents,Preschoolers,Theater
LOCATION:Tappan Middle School\, 2251 E. Stadium Blvd\, Ann Arbor\, Michigan
 \, 48104\, South\, United States
GEO:42.2619019;-83.7169715
X-APPLE-STRUCTURED-LOCATION;VALUE=URI;X-ADDRESS=2251 E. Stadium Blvd\, Ann 
 Arbor\, Michigan\, 48104\, South\, United States;X-APPLE-RADIUS=100;X-TITL
 E=Tappan Middle School:geo:42.2619019,-83.7169715
END:VEVENT
BEGIN:VTIMEZONE
TZID:America/Detroit
X-LIC-LOCATION:America/Detroit
BEGIN:DAYLIGHT
DTSTART:20260308T030000
TZOFFSETFROM:-0500
TZOFFSETTO:-0400
TZNAME:EDT
END:DAYLIGHT
END:VTIMEZONE
END:VCALENDAR