BEGIN:VCALENDAR
VERSION:2.0
PRODID:-//wp-events-plugin.com//7.2.3.1//EN
TZID:America/Detroit
X-WR-TIMEZONE:America/Detroit
BEGIN:VEVENT
UID:93074@annarborwithkids.com
DTSTART;TZID=America/Detroit:20260426T140000
DTEND;TZID=America/Detroit:20260426T160000
DTSTAMP:20260312T200641Z
URL:https://annarborwithkids.com/events/shipwrecks-of-the-great-lakes/
SUMMARY:Shipwrecks of the Great Lakes
DESCRIPTION:\nTake a deep dive and explore the depths of the Great Lakes to
  search through some of the 6\,000 shipwrecks that pepper the lake floor. 
 Join Lake Erie Metropark to learn about the difference between freshwater 
 and saltwater wrecks as well as the tall tales behind these wrecks.\n\n\n\
 nThis program is entirely indoors. You will be seated for the entire 120-m
 inute duration. Group discussion will be encouraged. For ages 8+. Held in 
 the park's Marshland Museum.\n\n\n\nPre-registration is required by 4p the
  day before the program.\n
CATEGORIES:Advance Registration,Arbor Annie's Highlights,Elementary,High
 Schoolers,History,Indoor Activities,Middle Schoolers,Parents,Registration
 Required
LOCATION:Lake Erie Metropark\, 32481 West Jefferson Avenue\, Brownstown\, M
 ichigan\, 48173\, United States
GEO:42.070504;-83.210829
X-APPLE-STRUCTURED-LOCATION;VALUE=URI;X-ADDRESS=32481 West Jefferson Avenue
 \, Brownstown\, Michigan\, 48173\, United States;X-APPLE-RADIUS=100;X-TITL
 E=Lake Erie Metropark:geo:42.070504,-83.210829
END:VEVENT
BEGIN:VTIMEZONE
TZID:America/Detroit
X-LIC-LOCATION:America/Detroit
BEGIN:DAYLIGHT
DTSTART:20260308T030000
TZOFFSETFROM:-0500
TZOFFSETTO:-0400
TZNAME:EDT
END:DAYLIGHT
END:VTIMEZONE
END:VCALENDAR