BEGIN:VCALENDAR
VERSION:2.0
PRODID:-//wp-events-plugin.com//7.2.3.1//EN
TZID:America/Detroit
X-WR-TIMEZONE:America/Detroit
BEGIN:VEVENT
UID:87537@annarborwithkids.com
DTSTART;TZID=America/Detroit:20250619T183000
DTEND;TZID=America/Detroit:20250619T213000
DTSTAMP:20250605T200324Z
URL:https://annarborwithkids.com/events/shakespeare-in-the-arb-2025-06-19/
SUMMARY:Shakespeare in the Arb 2025: The Merry Wives of Windsor
DESCRIPTION:\nShakespeare in the Arb is an annual Ann Arbor tradition featu
 ring a different play each year. The 2025 show is The Merry Wives of Winds
 or. The performance moves through the Arb with different scenes.\n\n\n\nGu
 ests are encouraged to bring their own blanket or portable chairs. If you 
 bring chairs\, please sit behind those on blankets.\n\n\n\nTicket Prices a
 re:\n\n\n\n\nAdults ages 19+ - $25\n\n\n\nYouth 5-18: $15\n\n\n\nChildren 
 5 and under: Free.\n\n\n\nMatthaei-Nichols members: $20\n\n\n\nStudents wi
 th ID: $15\n\n\n\n\n\n
CATEGORIES:Arbor Annie's Highlights,High Schoolers,Middle
 Schoolers,Parents,Theater
LOCATION:Nichols Arboretum\, 1016 Washington Heights\, Ann Arbor\, Michigan
 \, 48104\, Michigan\, United States
GEO:42.28036050000001;-83.73716840000003
X-APPLE-STRUCTURED-LOCATION;VALUE=URI;X-ADDRESS=1016 Washington Heights\, A
 nn Arbor\, Michigan\, 48104\, Michigan\, United States;X-APPLE-RADIUS=100;
 X-TITLE=Nichols Arboretum:geo:42.28036050000001,-83.73716840000003
END:VEVENT
BEGIN:VTIMEZONE
TZID:America/Detroit
X-LIC-LOCATION:America/Detroit
BEGIN:DAYLIGHT
DTSTART:20250309T030000
TZOFFSETFROM:-0500
TZOFFSETTO:-0400
TZNAME:EDT
END:DAYLIGHT
END:VTIMEZONE
END:VCALENDAR