BEGIN:VCALENDAR
VERSION:2.0
PRODID:-//wp-events-plugin.com//7.2.3.1//EN
TZID:America/Detroit
X-WR-TIMEZONE:America/Detroit
BEGIN:VEVENT
UID:54847@annarborwithkids.com
DTSTART;TZID=America/Detroit:20260427T180000
DTEND;TZID=America/Detroit:20260427T193000
DTSTAMP:20260323T192202Z
URL:https://annarborwithkids.com/events/sewing-lab-fabric-bias-with-amber-
 adams-fall/
SUMMARY:Sewing Lab | In-Seam Pockets
DESCRIPTION:\nSewing instructor Amber Adams-Fall will do a brief demo on cr
 eating in-seam pockets\n\n\n\nJoin AADL for an evening of sewing! They wil
 l have their lab’s machines set up and staff will be on hand to show you
  the basics. You can bring a project you’ve been working on\, or just st
 op by to practice your stitches. All sewing skill levels welcome. No prior
  knowledge is necessary.\n\n\n\nFor teens (grade 6+) &amp\; adults. The ev
 ent is in the Secret Lab.\n\n\n\n\n
CATEGORIES:Arbor Annie's Highlights,Art,Classes,Crafts,Fiber
 Arts,Free,High Schoolers,Indoor Activities,Middle Schoolers,Parents
LOCATION:Downtown Branch of AADL\, 343 South Fifth Avenue\, Ann Arbor\, Mic
 higan\, 48104\, Downtown\, United States
GEO:42.278198;-83.745971
X-APPLE-STRUCTURED-LOCATION;VALUE=URI;X-ADDRESS=343 South Fifth Avenue\, An
 n Arbor\, Michigan\, 48104\, Downtown\, United States;X-APPLE-RADIUS=100;X
 -TITLE=Downtown Branch of AADL:geo:42.278198,-83.745971
END:VEVENT
BEGIN:VTIMEZONE
TZID:America/Detroit
X-LIC-LOCATION:America/Detroit
BEGIN:DAYLIGHT
DTSTART:20260308T030000
TZOFFSETFROM:-0500
TZOFFSETTO:-0400
TZNAME:EDT
END:DAYLIGHT
END:VTIMEZONE
END:VCALENDAR