BEGIN:VCALENDAR
VERSION:2.0
PRODID:-//wp-events-plugin.com//7.2.3.1//EN
TZID:America/Detroit
X-WR-TIMEZONE:America/Detroit
BEGIN:VEVENT
UID:79687@annarborwithkids.com
DTSTART;TZID=America/Detroit:20241110T140000
DTEND;TZID=America/Detroit:20241110T153000
DTSTAMP:20241031T183632Z
URL:https://annarborwithkids.com/events/seven-outdoor-skills-everyone-shou
 ld-know-2/
SUMMARY:Seven Outdoor Skills Everyone Should Know
DESCRIPTION:\nIn this hands-on workshop\, Meg Gower will teach basic surv
 ival skills.   Learn how to navigate\, make fire without matches\, crea
 te shelter\, signal\, and more.  Program geared to ages 10 to adult. \n\
 n\n\n\n\n\n\nCost: $2/person or $5/family with State Recreation Passport.
   Program will be held outdoors at the Eddy Discovery Center\, 17030 Bus
 h Rd. in the Waterloo Recreation Area near Chelsea.  \n\n\n\nProgram lim
 ited to 30 people.  Call to reserve a space at 734-475-3170.\n
ATTACH;FMTTYPE=image/jpeg:https://annarborwithkids.com/wp-content/uploads/
 Outdoor_Skills_compass-1850673_1280.jpg
CATEGORIES:Animals,Arbor Annie's Highlights
LOCATION:Eddy Discovery Center\, 17030 Bush Rd\, Chelsea\, Michigan\, 48118
 \, Chelsea\, United States
GEO:42.3298572;-84.08067299999999
X-APPLE-STRUCTURED-LOCATION;VALUE=URI;X-ADDRESS=17030 Bush Rd\, Chelsea\, M
 ichigan\, 48118\, Chelsea\, United States;X-APPLE-RADIUS=100;X-TITLE=Eddy 
 Discovery Center:geo:42.3298572,-84.08067299999999
END:VEVENT
BEGIN:VTIMEZONE
TZID:America/Detroit
X-LIC-LOCATION:America/Detroit
BEGIN:STANDARD
DTSTART:20241103T010000
TZOFFSETFROM:-0400
TZOFFSETTO:-0500
TZNAME:EST
END:STANDARD
END:VTIMEZONE
END:VCALENDAR