BEGIN:VCALENDAR
VERSION:2.0
PRODID:-//wp-events-plugin.com//7.2.3.1//EN
TZID:America/Detroit
X-WR-TIMEZONE:America/Detroit
BEGIN:VEVENT
UID:39348@annarborwithkids.com
DTSTART;TZID=America/Detroit:20251118T103000
DTEND;TZID=America/Detroit:20251118T111500
DTSTAMP:20251029T201123Z
URL:https://annarborwithkids.com/events/sensation-stations-2/
SUMMARY:Sensation Stations
DESCRIPTION:\nYoung children can engage their senses by scooping\, pouring\
 , shaking\, and sorting a variety of materials\, and will learn about colo
 rs\, shapes\, textures and sounds!\n\n\n\nFor age 10 months–2 years. \n\
 n\n\n\n\nUpcoming Sensation Station Sessions\n\n\n\n[events_list tag="sens
 ation"][/events_list]\n\n\n
CATEGORIES:Arbor Annie's Highlights,Babies,Free,Indoor Activities,Toddler
LOCATION:Westgate Branch of AADL\, 2503 Jackson Ave\, Ann Arbor\, Michigan\
 , 48103\, West\, United States
GEO:42.2786067;-83.78273059999998
X-APPLE-STRUCTURED-LOCATION;VALUE=URI;X-ADDRESS=2503 Jackson Ave\, Ann Arbo
 r\, Michigan\, 48103\, West\, United States;X-APPLE-RADIUS=100;X-TITLE=Wes
 tgate Branch of AADL:geo:42.2786067,-83.78273059999998
END:VEVENT
BEGIN:VTIMEZONE
TZID:America/Detroit
X-LIC-LOCATION:America/Detroit
BEGIN:STANDARD
DTSTART:20251102T010000
TZOFFSETFROM:-0400
TZOFFSETTO:-0500
TZNAME:EST
END:STANDARD
END:VTIMEZONE
END:VCALENDAR