BEGIN:VCALENDAR
VERSION:2.0
PRODID:-//wp-events-plugin.com//7.2.3.1//EN
TZID:America/Detroit
X-WR-TIMEZONE:America/Detroit
BEGIN:VEVENT
UID:93229@annarborwithkids.com
DTSTART;TZID=America/Detroit:20260426T150000
DTEND;TZID=America/Detroit:20260426T170000
DTSTAMP:20260323T202529Z
URL:https://annarborwithkids.com/events/selfie-museum/
SUMMARY:Selfie Museum
DESCRIPTION:\nPose for the camera now\, flick! Flick! Come on down for an a
 fternoon of photo opportunities like no other. Snap some pics on your pers
 onal device or allow AADL staff to capture your image with an instant came
 ra! You might even bump into a (cardboard cut-out) celebrity!\n\n\n\nFor a
 ll ages preschool-adult. Held on Lower Level of Downtown Library.\n
CATEGORIES:Arbor Annie's Highlights,Elementary,Free,High Schoolers,Indoor
 Activities,Middle Schoolers,Parents,Photography,Preschoolers
LOCATION:Downtown Branch of AADL\, 343 South Fifth Avenue\, Ann Arbor\, Mic
 higan\, 48104\, Downtown\, United States
GEO:42.278198;-83.745971
X-APPLE-STRUCTURED-LOCATION;VALUE=URI;X-ADDRESS=343 South Fifth Avenue\, An
 n Arbor\, Michigan\, 48104\, Downtown\, United States;X-APPLE-RADIUS=100;X
 -TITLE=Downtown Branch of AADL:geo:42.278198,-83.745971
END:VEVENT
BEGIN:VTIMEZONE
TZID:America/Detroit
X-LIC-LOCATION:America/Detroit
BEGIN:DAYLIGHT
DTSTART:20260308T030000
TZOFFSETFROM:-0500
TZOFFSETTO:-0400
TZNAME:EDT
END:DAYLIGHT
END:VTIMEZONE
END:VCALENDAR