BEGIN:VCALENDAR
VERSION:2.0
PRODID:-//wp-events-plugin.com//7.2.3.1//EN
TZID:America/Detroit
X-WR-TIMEZONE:America/Detroit
BEGIN:VEVENT
UID:35514@annarborwithkids.com
DTSTART;TZID=America/Detroit:20251026T130000
DTEND;TZID=America/Detroit:20251026T160000
DTSTAMP:20251006T124430Z
URL:https://annarborwithkids.com/events/scio-township-fire-department-hall
 oween-party/
SUMMARY:Scio Township Fire Department Halloween Party
DESCRIPTION:\nJoin the Scio Township Fire Department for their annual Hallo
 ween Party. \n\n\n\nThere will be pony rides\, magic\, face painting\, and
  a bounce house. Plus\, meet the fire fighters and see the fire trucks up 
 close.\n\n\n\nCome out to collect candy\, see the animals\, and of course 
 see the fire engines up close.\n\n\n\n\n\n\n\n\n\nActivities for kids &amp
 \; Adults\n\n\n\n\n\n\n
CATEGORIES:Animals,Arbor Annie's
 Highlights,Elementary,Environmental,Free,Halloween,Middle
 Schoolers,Parents,Preschoolers,Toddler,Trick or Treat
LOCATION:Scio Township Fire Department\, 1055 N. Zeeb Rd\, Ann Arbor\, MI\,
  48103\, Scio Township\, United States
GEO:42.2994344;-83.83949469999999
X-APPLE-STRUCTURED-LOCATION;VALUE=URI;X-ADDRESS=1055 N. Zeeb Rd\, Ann Arbor
 \, MI\, 48103\, Scio Township\, United States;X-APPLE-RADIUS=100;X-TITLE=S
 cio Township Fire Department:geo:42.2994344,-83.83949469999999
END:VEVENT
BEGIN:VTIMEZONE
TZID:America/Detroit
X-LIC-LOCATION:America/Detroit
BEGIN:DAYLIGHT
DTSTART:20250309T030000
TZOFFSETFROM:-0500
TZOFFSETTO:-0400
TZNAME:EDT
END:DAYLIGHT
END:VTIMEZONE
END:VCALENDAR