BEGIN:VCALENDAR
VERSION:2.0
PRODID:-//wp-events-plugin.com//7.2.3.1//EN
TZID:America/Detroit
X-WR-TIMEZONE:America/Detroit
BEGIN:VEVENT
UID:93478@annarborwithkids.com
DTSTART;TZID=America/Detroit:20260328T130000
DTEND;TZID=America/Detroit:20260328T150000
DTSTAMP:20260404T134454Z
URL:https://annarborwithkids.com/events/science-saturdays-at-briarwood-mal
 l-2026-03-07-2026-03-14-2026-03-21-2026-03-28/
SUMMARY:Science Saturdays at Briarwood Mall
DESCRIPTION:\nBriarwood Mall will be hosting AAHOM &amp\; Leslie Science &a
 mp\; Nature Center for a series of Science Saturdays.\n\n\n\nEach Saturday
  event will feature a different theme and activities including take-home a
 ctivities\, science experiments\, and for some events\, the chance to meet
  live animals up close!\n\n\n\n\nMarch 7 - Art &amp\; Music\n\n\n\nMarch 2
 1 - Engineering\n\n\n\nMarch 28 - Space\n\n\n\nApril 4 - All Things Animal
 s\n\n\n\n\nFamily activities will be in the Center Court. Adult Activities
  will be in the Macy's Court.\n\n\n\n\n
CATEGORIES:Arbor Annie's Highlights,Elementary,Free,High Schoolers,Indoor
 Activities,Middle Schoolers,Parents,Preschoolers,STEM,Toddler
LOCATION:Briarwood Mall\, 100 Briarwood Circle\, Ann Arbor\, Michigan\, 481
 08\, Briarwood\, United States
GEO:42.2380708;-83.74711669999999
X-APPLE-STRUCTURED-LOCATION;VALUE=URI;X-ADDRESS=100 Briarwood Circle\, Ann 
 Arbor\, Michigan\, 48108\, Briarwood\, United States;X-APPLE-RADIUS=100;X-
 TITLE=Briarwood Mall:geo:42.2380708,-83.74711669999999
END:VEVENT
BEGIN:VTIMEZONE
TZID:America/Detroit
X-LIC-LOCATION:America/Detroit
BEGIN:DAYLIGHT
DTSTART:20260308T030000
TZOFFSETFROM:-0500
TZOFFSETTO:-0400
TZNAME:EDT
END:DAYLIGHT
END:VTIMEZONE
END:VCALENDAR