BEGIN:VCALENDAR
VERSION:2.0
PRODID:-//wp-events-plugin.com//7.2.3.1//EN
TZID:America/Detroit
X-WR-TIMEZONE:America/Detroit
BEGIN:VEVENT
UID:92974@annarborwithkids.com
DTSTART;TZID=America/Detroit:20260415T183000
DTEND;TZID=America/Detroit:20260415T193000
DTSTAMP:20260408T135627Z
URL:https://annarborwithkids.com/events/science-club-plants-water-conserva
 tion/
SUMMARY:Science Club: Plants &amp\; Water Conservation
DESCRIPTION:\nIf you’ve ever imagined being a scientist\, join Science Cl
 ub at the Saline District Library! This is for kids to try different scien
 ces through hands-on activities.&nbsp\;\n\n\n\nThis month's presenter is H
 uron-Clinton Metroparks for a fun journey into our watershed!\n\n\n\nJoin 
 the Huron-Clinton Metroparks for an interactive demonstration exploring st
 ormwater\, water coming from heavy rain and snow. Explore how stormwater s
 hapes our environment using an interactive watershed model. Take a journey
  with a fish as it travels along our local rivers and see how human activi
 ty impacts its path. Then\, plant a native seed to take home and learn how
  you can help protect our waterways.\n\n\n\nAges 8-12. Registration requir
 ed.\n\n\n\nThere is an earlier section for ages 5-7 at 4:30p.\n
CATEGORIES:Advance Registration,Arbor Annie's
 Highlights,Elementary,Free,Indoor Activities,Middle Schoolers,STEM
LOCATION:Saline District Library\, 555 N. Maple Rd\, Saline\, Michigan\, 48
 176\, Saline\, United States
GEO:42.17779;-83.775429
X-APPLE-STRUCTURED-LOCATION;VALUE=URI;X-ADDRESS=555 N. Maple Rd\, Saline\, 
 Michigan\, 48176\, Saline\, United States;X-APPLE-RADIUS=100;X-TITLE=Salin
 e District Library:geo:42.17779,-83.775429
END:VEVENT
BEGIN:VTIMEZONE
TZID:America/Detroit
X-LIC-LOCATION:America/Detroit
BEGIN:DAYLIGHT
DTSTART:20260308T030000
TZOFFSETFROM:-0500
TZOFFSETTO:-0400
TZNAME:EDT
END:DAYLIGHT
END:VTIMEZONE
END:VCALENDAR