BEGIN:VCALENDAR
VERSION:2.0
PRODID:-//wp-events-plugin.com//7.2.3.1//EN
TZID:America/Detroit
X-WR-TIMEZONE:America/Detroit
BEGIN:VEVENT
UID:92973@annarborwithkids.com
DTSTART;TZID=America/Detroit:20260415T163000
DTEND;TZID=America/Detroit:20260415T173000
DTSTAMP:20260310T212904Z
URL:https://annarborwithkids.com/events/science-club-junior-oceans-alive/
SUMMARY:Science Club Junior: Plants &amp\; Water Conservation
DESCRIPTION:\nScience Club Junior is for the younger group of emerging scie
 ntists. Science Club Junior is for kids to try different sciences through 
 hands-on activities. \n\n\n\nThis month's presenter is Huron-Clinton Metro
 parks for a fun journey into the world of plants and water conservation!\n
 \n\n\nParticipants will discover the world of plants by learning about dif
 ferent plant parts\, their life cycles\, and how they can help keep our wa
 ter clean. Join hands on activities to explore these concepts and learn th
 e importance of native plants in the water cycle. Each child will then pla
 nt a seed to take home\, fostering a connection with nature and a hands-on
  understanding of environmental care. \n\n\n\nAges 5-7. Registration requ
 ired.\n\n\n\nThere is a later section for ages 8-12 at 6:30p.\n\n\n\n\n\n\
 n
CATEGORIES:Advance Registration,Arbor Annie's
 Highlights,Elementary,Free,Indoor Activities,Registration Required,STEM
LOCATION:Saline District Library\, 555 N. Maple Rd\, Saline\, Michigan\, 48
 176\, Saline\, United States
GEO:42.17779;-83.775429
X-APPLE-STRUCTURED-LOCATION;VALUE=URI;X-ADDRESS=555 N. Maple Rd\, Saline\, 
 Michigan\, 48176\, Saline\, United States;X-APPLE-RADIUS=100;X-TITLE=Salin
 e District Library:geo:42.17779,-83.775429
END:VEVENT
BEGIN:VTIMEZONE
TZID:America/Detroit
X-LIC-LOCATION:America/Detroit
BEGIN:DAYLIGHT
DTSTART:20260308T030000
TZOFFSETFROM:-0500
TZOFFSETTO:-0400
TZNAME:EDT
END:DAYLIGHT
END:VTIMEZONE
END:VCALENDAR