BEGIN:VCALENDAR
VERSION:2.0
PRODID:-//wp-events-plugin.com//7.2.3.1//EN
TZID:America/Detroit
X-WR-TIMEZONE:America/Detroit
BEGIN:VEVENT
UID:89592@annarborwithkids.com
DTSTART;TZID=America/Detroit:20251025T180000
DTEND;TZID=America/Detroit:20251025T210000
DTSTAMP:20250925T163938Z
URL:https://annarborwithkids.com/events/scary-storytelling-teen-after-hour
 s-party/
SUMMARY:Scary Storytelling: Teen After Hours Party
DESCRIPTION:\nJoin artist and maker KC Dixon\, along with the Teen Advisory
  Group\, for scary storytelling. Carve or decorate pumpkins\, create costu
 me components\, and enjoy a taco bar and fall-themed dessert bar. Wear a c
 ostume if you like. \n\n\n\nFor ages 12-18.\n\n\n\nNo registration require
 d.\n\n\n\n\n\n\n
CATEGORIES:Arbor Annie's Highlights,Food,Free,Halloween,High
 Schoolers,Indoor Activities,Middle Schoolers
LOCATION:Ypsilanti District Library - Whittaker Rd\, 5577 Whittaker Rd\, Yp
 silanti\, Michigan\, 48197\, Ypsilanti\, United States
GEO:42.208097;-83.61557
X-APPLE-STRUCTURED-LOCATION;VALUE=URI;X-ADDRESS=5577 Whittaker Rd\, Ypsilan
 ti\, Michigan\, 48197\, Ypsilanti\, United States;X-APPLE-RADIUS=100;X-TIT
 LE=Ypsilanti District Library - Whittaker Rd:geo:42.208097,-83.61557
END:VEVENT
BEGIN:VTIMEZONE
TZID:America/Detroit
X-LIC-LOCATION:America/Detroit
BEGIN:DAYLIGHT
DTSTART:20250309T030000
TZOFFSETFROM:-0500
TZOFFSETTO:-0400
TZNAME:EDT
END:DAYLIGHT
END:VTIMEZONE
END:VCALENDAR