BEGIN:VCALENDAR
VERSION:2.0
PRODID:-//wp-events-plugin.com//7.2.3.1//EN
TZID:America/Detroit
X-WR-TIMEZONE:America/Detroit
BEGIN:VEVENT
UID:88060@annarborwithkids.com
DTSTART;TZID=America/Detroit:20251115T140000
DTEND;TZID=America/Detroit:20251115T150000
DTSTAMP:20250818T222740Z
URL:https://annarborwithkids.com/events/scarecrow-painting-party-for-kids/
SUMMARY:Scarecrow Painting PARTy for Kids
DESCRIPTION:\nHead to Whitepine Studios for a painting party to paint a sca
 recrow on an 11x14 canvas board.\n\n\n\nFor ages 5-12.\n\n\n\nMake sure to
  wear old clothing or a smock. \n\n\n\n\n
CATEGORIES:Advance Registration,Arbor Annie's
 Highlights,Art,Classes,Crafts,Elementary,Fall Fun,Indoor Activities,Middle
 Schoolers,Registration Required,Thanksgiving
LOCATION:Whitepine Studios\, 141 E Michigan Avenue\, Suite B\, Saline\, Mic
 higan\, 48176\, United States
GEO:42.167252;-83.780757
X-APPLE-STRUCTURED-LOCATION;VALUE=URI;X-ADDRESS=141 E Michigan Avenue\, Sui
 te B\, Saline\, Michigan\, 48176\, United States;X-APPLE-RADIUS=100;X-TITL
 E=Whitepine Studios:geo:42.167252,-83.780757
END:VEVENT
BEGIN:VTIMEZONE
TZID:America/Detroit
X-LIC-LOCATION:America/Detroit
BEGIN:STANDARD
DTSTART:20251102T010000
TZOFFSETFROM:-0400
TZOFFSETTO:-0500
TZNAME:EST
END:STANDARD
END:VTIMEZONE
END:VCALENDAR