BEGIN:VCALENDAR
VERSION:2.0
PRODID:-//wp-events-plugin.com//7.2.3.1//EN
TZID:America/Detroit
X-WR-TIMEZONE:America/Detroit
BEGIN:VEVENT
UID:76077@annarborwithkids.com
DTSTART;TZID=America/Detroit:20240217T103000
DTEND;TZID=America/Detroit:20240217T113000
DTSTAMP:20240119T040017Z
URL:https://annarborwithkids.com/events/saturday-morning-physics-2024-02-1
 7/
SUMMARY:Saturday Morning Physics
DESCRIPTION:\nUM's Physics department hosts the Saturday Morning Physics le
 cture series during both fall and winter terms. The talks present physics 
 topics to a general audience including older children with non-technical t
 erms.\n\n\n\nThe sessions are held in Rooms 170 &amp\; 182 Weiser Hall.\n\
 n\n\nUpcoming Saturday Morning Physics Topics:\n\n\n\n\nFebruary 17 - Tota
 lly Awesome: Your Guide to the Great American Solar Eclipse of 2024\n\n\n\
 n\n[wpv-view name="posts-by-id-shortcode" ids="53206"]\n
CATEGORIES:Elementary,Free,High Schoolers,Indoor Activities,Middle
 Schoolers,Parents,STEM
LOCATION:Weiser Hall\, 500 Church St\, Ann Arbor\, Michigan \, 48109\, Camp
 us\, United States
GEO:42.27651789999999;-83.73504379999997
X-APPLE-STRUCTURED-LOCATION;VALUE=URI;X-ADDRESS=500 Church St\, Ann Arbor\,
  Michigan \, 48109\, Campus\, United States;X-APPLE-RADIUS=100;X-TITLE=Wei
 ser Hall:geo:42.27651789999999,-83.73504379999997
END:VEVENT
BEGIN:VTIMEZONE
TZID:America/Detroit
X-LIC-LOCATION:America/Detroit
BEGIN:STANDARD
DTSTART:20231105T010000
TZOFFSETFROM:-0400
TZOFFSETTO:-0500
TZNAME:EST
END:STANDARD
END:VTIMEZONE
END:VCALENDAR