BEGIN:VCALENDAR
VERSION:2.0
PRODID:-//wp-events-plugin.com//7.2.3.1//EN
TZID:America/Detroit
X-WR-TIMEZONE:America/Detroit
BEGIN:VEVENT
UID:87617@annarborwithkids.com
DTSTART;TZID=America/Detroit:20250702T170000
DTEND;TZID=America/Detroit:20250702T220000
DTSTAMP:20250609T160034Z
URL:https://annarborwithkids.com/events/salute-to-america-2025-07-02/
SUMMARY:Salute to America
DESCRIPTION:\nThe 2023 Salute to America runs July 2-5. Each year the Detro
 it Symphony Orchestra and the Henry Ford Museum present Salute to America 
 at Greenfield Village. This year's event combines the best elements of the
 ir traditional show with the modified strolling show introduced in 2021.\n
 \n\n\nStart the evening by exploring Greenfield Village's historical distr
 icts and stop to listen to small DSO ensembles throughout the village. The
 se ensembles will feature different types of American music - choral singi
 ng\, ragtime\, jazz\, and more. There will be food trucks along Main Stree
 t and the carousel will be \n\n\n\nThe event will conclude at dusk with th
 e full DSO on the main stage featuring orchestral music and selections fro
 m films and pop culture before concluding with the 1812 overture\, canon f
 ire\, and a fireworks finale.\n\n\n\nGreenfield Village hosted us in 2019 
 and it was a spectacular show...even though it rained for most of the nigh
 t. At the time\, the concert was in Walnut Grove and there were no strolli
 ng ensembles.\n\n\n\nEvent Photography by KMS Photography\n\n\n\nSalute to
  America Tickets\n\n\n\nTicket Prices are:\n\n\n\n\nJuly 2 &amp\; 3: $35.7
 5/Members &amp\; $42/Non-Members\n\n\n\nJuly 4 &amp\; 5: $30.50/Members &a
 mp\; $36/Non-Members\n\n\n\nYouth (Ages 5-11): Save 25% off member or non-
 member pricing\n\n\n\nSeniors (age 62+): Save 10% off member or non-member
  pricing\n\n\n\nChildren (ages 0-4) are free\n\n\n\n$9/vehicle parking fee
  for non-members\n\n\n\n\n[events_list scope="2025-06-30\,2025-07-08" tag=
 "Salute to America" location="Greenfield Village][/events_list]\n\n\n\n\n
ATTACH;FMTTYPE=image/jpeg:https://annarborwithkids.com/wp-content/uploads/
 2017/05/greenfield-village-salute-to-america.jpg
CATEGORIES:Arbor Annie's Highlights,Concert,Elementary,Fireworks,High
 Schoolers,Independence Day,Middle
 Schoolers,Music/Concerts,Parents,Preschoolers,Toddler
LOCATION:Greenfield Village\, 20900 Oakwood Blvd\, Dearborn\, Michigan\, 48
 124\, Dearborn\, United States
GEO:42.3026973;-83.23508770000001
X-APPLE-STRUCTURED-LOCATION;VALUE=URI;X-ADDRESS=20900 Oakwood Blvd\, Dearbo
 rn\, Michigan\, 48124\, Dearborn\, United States;X-APPLE-RADIUS=100;X-TITL
 E=Greenfield Village:geo:42.3026973,-83.23508770000001
END:VEVENT
BEGIN:VTIMEZONE
TZID:America/Detroit
X-LIC-LOCATION:America/Detroit
BEGIN:DAYLIGHT
DTSTART:20250309T030000
TZOFFSETFROM:-0500
TZOFFSETTO:-0400
TZNAME:EDT
END:DAYLIGHT
END:VTIMEZONE
END:VCALENDAR