BEGIN:VCALENDAR
VERSION:2.0
PRODID:-//wp-events-plugin.com//7.2.3.1//EN
TZID:America/Detroit
X-WR-TIMEZONE:America/Detroit
BEGIN:VEVENT
UID:23039@annarborwithkids.com
DTSTART;TZID=America/Detroit:20251206T180000
DTEND;TZID=America/Detroit:20251206T193000
DTSTAMP:20251105T175917Z
URL:https://annarborwithkids.com/events/salines-41st-annual-christmas-para
 de/
SUMMARY:Saline's Annual Holiday Parade
DESCRIPTION:\nIn 2025 Saline is celebrating the parade's Golden Jubilee - C
 elebrating 50 Years of Community.\n\n\n\nWe have also updated for 2025 on 
 the Cocoa Crawl and Merry Mile. Both the Cocoa Crawl and Merry Mile refern
 ce the Tree Lighting. \n\n\n\nThe parade is part of an all day celebration
 . Head to downtown for: \n\n\n\n\nnoon-6p - Cocoa Crawl\n\n\n\n5-6p Tree L
 ighting\n\n\n\n5:30p - Merry Mile\n\n\n\n6:15p - Holiday Parade\n\n\n\n\n\
 n\n\n\n\n\n\n
CATEGORIES:Age Range,Arbor Annie's
 Highlights,Babies,Christmas,Elementary,Free,High Schoolers,Middle
 Schoolers,Parade,Parents,Preschoolers,Toddler
LOCATION:Downtown Saline\, 10 North Ann Arbor St\, Saline\, Michigan\, Sali
 ne\, United States
GEO:42.1667082;-83.78133179999998
X-APPLE-STRUCTURED-LOCATION;VALUE=URI;X-ADDRESS=10 North Ann Arbor St\, Sal
 ine\, Michigan\, Saline\, United States;X-APPLE-RADIUS=100;X-TITLE=Downtow
 n Saline:geo:42.1667082,-83.78133179999998
END:VEVENT
BEGIN:VTIMEZONE
TZID:America/Detroit
X-LIC-LOCATION:America/Detroit
BEGIN:STANDARD
DTSTART:20251102T010000
TZOFFSETFROM:-0400
TZOFFSETTO:-0500
TZNAME:EST
END:STANDARD
END:VTIMEZONE
END:VCALENDAR