BEGIN:VCALENDAR
VERSION:2.0
PRODID:-//wp-events-plugin.com//7.2.3.1//EN
TZID:America/Detroit
X-WR-TIMEZONE:America/Detroit
BEGIN:VEVENT
UID:70182@annarborwithkids.com
DTSTART;TZID=America/Detroit:20250809T083000
DTEND;TZID=America/Detroit:20250809T103000
DTSTAMP:20250725T053237Z
URL:https://annarborwithkids.com/events/saline-summerfest-5k/
SUMMARY:Saline Summerfest 5K
DESCRIPTION:\nThe Saline Summerfest 5K typically kicks off the Saturday of 
 Saline Summerfest.\n\n\n\nCome run around Saline and kick-off Summerfest.\
 n\n\n\n\n\n\n\n\n\nRegistration Deadlines:\n\n\n\n\nIn Person 5K - \n\nthr
 ough August 7 - $38\n\n\n\nAugust 8 - $42\n\n\n\n\n\nVirtual 5K - $35\n\n\
 n\n\nSave $3 by registering a family/group of more than 3 people.\n\n\n\nM
 ore details on the race will be released closer to the 2023 race.\n\n\n\n\
 n
CATEGORIES:Arbor Annie's Highlights,Elementary,Fitness/Health,High
 Schoolers,Middle Schoolers,Parents,Race,Sport
LOCATION:Henne Field\, 100 N Harris St\, Saline\, Michigan\, 48176\, Saline
 \, United States
GEO:42.1690277;-83.77891590000002
X-APPLE-STRUCTURED-LOCATION;VALUE=URI;X-ADDRESS=100 N Harris St\, Saline\, 
 Michigan\, 48176\, Saline\, United States;X-APPLE-RADIUS=100;X-TITLE=Henne
  Field:geo:42.1690277,-83.77891590000002
END:VEVENT
BEGIN:VTIMEZONE
TZID:America/Detroit
X-LIC-LOCATION:America/Detroit
BEGIN:DAYLIGHT
DTSTART:20250309T030000
TZOFFSETFROM:-0500
TZOFFSETTO:-0400
TZNAME:EDT
END:DAYLIGHT
END:VTIMEZONE
END:VCALENDAR