BEGIN:VCALENDAR
VERSION:2.0
PRODID:-//wp-events-plugin.com//7.2.3.1//EN
TZID:America/Detroit
X-WR-TIMEZONE:America/Detroit
BEGIN:VEVENT
UID:66207@annarborwithkids.com
DTSTART;TZID=America/Detroit:20260927T143000
DTEND;TZID=America/Detroit:20260927T160000
DTSTAMP:20260326T170830Z
URL:https://annarborwithkids.com/events/runtough/
SUMMARY:RunTough Family Fun Day
DESCRIPTION:\nChadTough Defeat DIPG Foundation is excited to announce their
  13th Annual RunTough event\, which will be held both virtually and in per
 son at Saline High School's Hornet Stadium in the afternoon on SUNDAY\, 
 September 27\, 2026. RunTough is the foundation’s longest-running event\
 , and due to popular demand they are bringing back our traditional 5K &amp
 \; 1M races in Saline!\n\n\n\n\n\n\n\nRunTough Family Fun Day features:\n\
 n\n\n\nSaline 5K\n\n\n\nA 1-mile Fun Run\n\n\n\nA lively Family Fun Zone p
 acked with kids games &amp\; activities in the Saline football stadium.\n\
 n\n\n\nWhether you walk\, run\, toss a football\, or just join for a great
  day out with your family\, RunTough Family Fun Day has something for ever
 yone. \n\n\n\n\n\n\n\nAnd if you can't make it in person\, you can still j
 oin the fun by registering as a Virtual 5K participant. Virtual participan
 ts receive an event shirt and are encouraged to post photos using #RunToug
 h throughout the month of September\, which is Childhood Cancer Awareness 
 Month.\n\n\n\nSAVE NOW – Registration fee goes up after September 3.\n\n
 \n\n\nJune 1-July 31\n\n1 Mile Fun Run - $25\n\n\n\nSaline 5K - $30\n\n\n\
 nToddler Option (ages 5 &amp\; Under) - $10\n\n\n\nVirtual 5k (with shirt 
 mailed) - $30\n\n\n\nVirtual 5K (without shirt) - $20\n\n\n\n\n\nAugust 1-
 September 27\n\n1 Mile Fun Run - $30\n\n\n\nSaline 5K - $35\n\n\n\nToddler
  Option (ages 5 &amp\; Under) - $10\n\n\n\nVirtual 5k (with shirt mailed) 
 - $35\n\n\n\nVirtual 5K (without shirt) - $25\n\n\n\n\n\n\n\n
ATTACH;FMTTYPE=image/jpeg:https://annarborwithkids.com/wp-content/uploads/
 runtough-header.jpg
CATEGORIES:Advance Registration,Arbor Annie's Highlights,Charitable
 Event,Elementary,High Schoolers,Middle
 Schoolers,Outdoor,Parents,Preschoolers,Race,Registration
 Required,Toddler,Virtual
LOCATION:Saline High School\, 1300 Campus Parkway\, Saline\, Michigan\, 481
 76\, Saline\, United States
GEO:42.187819;-83.7494059
X-APPLE-STRUCTURED-LOCATION;VALUE=URI;X-ADDRESS=1300 Campus Parkway\, Salin
 e\, Michigan\, 48176\, Saline\, United States;X-APPLE-RADIUS=100;X-TITLE=S
 aline High School:geo:42.187819,-83.7494059
END:VEVENT
BEGIN:VTIMEZONE
TZID:America/Detroit
X-LIC-LOCATION:America/Detroit
BEGIN:DAYLIGHT
DTSTART:20260308T030000
TZOFFSETFROM:-0500
TZOFFSETTO:-0400
TZNAME:EDT
END:DAYLIGHT
END:VTIMEZONE
END:VCALENDAR